BEGIN:VCALENDAR
VERSION:2.0
PRODID:-//UC Law San Francisco (Formerly UC Hastings) - ECPv6.3.2//NONSGML v1.0//EN
CALSCALE:GREGORIAN
METHOD:PUBLISH
X-ORIGINAL-URL:https://www.uclawsf.edu
X-WR-CALDESC:Events for UC Law San Francisco (Formerly UC Hastings)
REFRESH-INTERVAL;VALUE=DURATION:PT1H
X-Robots-Tag:noindex
X-PUBLISHED-TTL:PT1H
BEGIN:VTIMEZONE
TZID:America/Los_Angeles
BEGIN:DAYLIGHT
TZOFFSETFROM:-0800
TZOFFSETTO:-0700
TZNAME:PDT
DTSTART:20250309T100000
END:DAYLIGHT
BEGIN:STANDARD
TZOFFSETFROM:-0700
TZOFFSETTO:-0800
TZNAME:PST
DTSTART:20251102T090000
END:STANDARD
END:VTIMEZONE
BEGIN:VEVENT
DTSTART;TZID=America/Los_Angeles:20250303T170000
DTEND;TZID=America/Los_Angeles:20250303T190000
DTSTAMP:20260420T061045
CREATED:20250120T191022Z
LAST-MODIFIED:20250120T191022Z
UID:10006072-1741021200-1741028400@www.uclawsf.edu
SUMMARY:VITA Tax Clinic
DESCRIPTION:During the 2024 tax filing season\, the UC Law SF Volunteer Income Tax Assistance (VITA) clinic provide free tax assistance to people who generally make $67\,000 or less annually\, or people with disabilities who need assistance in preparing their own CA and Federal tax returns. The assistance sessions will be in-person\, located at 200 McAllister Street at Hyde in San Francisco.  The clinic will run on Mondays from 5:00 PM to 7:00 PM\, beginning February 3\, 2025\, through April 14\, 2025\, excluding February 17 and March 3.  The VITA clinic is drop-in only and does not take appointments. \nPlease bring with you:\n\nPhoto ID & Social Security Card or ITIN for each person on your tax return\nW-2 for all jobs\nAll 1099s\, 1098s\, and any other tax forms\nYour household’s health coverage information\, including Forms 1095-A\, B\, or C\, if applicable\nIf you received the Advanced Child Tax Credit in 2023\, Letter 6419\nLast year’s tax return\nSavings/ checking account and routing numbers for direct deposit\nClients are encouraged to wear a well-fitting mask (N95\, KN95\, or equivalent) on site\n\nFor more information about the VITA clinic\, including what to bring with you to have your taxes prepared\, please see this flyer.  If you have questions\, you can email us at vita@uclawsf.edu or call us at 628-207-1956.
URL:https://www.uclawsf.edu/event/vita-tax-clinic/2025-03-03/
CATEGORIES:Public
END:VEVENT
BEGIN:VEVENT
DTSTART;TZID=America/Los_Angeles:20250310T170000
DTEND;TZID=America/Los_Angeles:20250310T190000
DTSTAMP:20260420T061045
CREATED:20250120T191022Z
LAST-MODIFIED:20250120T191022Z
UID:10006006-1741626000-1741633200@www.uclawsf.edu
SUMMARY:VITA Tax Clinic
DESCRIPTION:During the 2024 tax filing season\, the UC Law SF Volunteer Income Tax Assistance (VITA) clinic provide free tax assistance to people who generally make $67\,000 or less annually\, or people with disabilities who need assistance in preparing their own CA and Federal tax returns. The assistance sessions will be in-person\, located at 200 McAllister Street at Hyde in San Francisco.  The clinic will run on Mondays from 5:00 PM to 7:00 PM\, beginning February 3\, 2025\, through April 14\, 2025\, excluding February 17 and March 3.  The VITA clinic is drop-in only and does not take appointments. \nPlease bring with you:\n\nPhoto ID & Social Security Card or ITIN for each person on your tax return\nW-2 for all jobs\nAll 1099s\, 1098s\, and any other tax forms\nYour household’s health coverage information\, including Forms 1095-A\, B\, or C\, if applicable\nIf you received the Advanced Child Tax Credit in 2023\, Letter 6419\nLast year’s tax return\nSavings/ checking account and routing numbers for direct deposit\nClients are encouraged to wear a well-fitting mask (N95\, KN95\, or equivalent) on site\n\nFor more information about the VITA clinic\, including what to bring with you to have your taxes prepared\, please see this flyer.  If you have questions\, you can email us at vita@uclawsf.edu or call us at 628-207-1956.
URL:https://www.uclawsf.edu/event/vita-tax-clinic/2025-03-10/
CATEGORIES:Public
END:VEVENT
BEGIN:VEVENT
DTSTART;TZID=America/Los_Angeles:20250312T123000
DTEND;TZID=America/Los_Angeles:20250312T133000
DTSTAMP:20260420T061045
CREATED:20250311T193037Z
LAST-MODIFIED:20250312T210258Z
UID:10005982-1741782600-1741786200@www.uclawsf.edu
SUMMARY:ADR Speaker Series - Spring 2025
DESCRIPTION:  \n  \n  \n  \n  \n  \n  \n  \n  \n  \n  \n  \n  \n  \n  \n  \n  \n  \n  \n  \n  \n  \n  \n  \n  \nJoin the Center for Negotiation and Dispute Resolution (CNDR) at UC Law San Francisco for a public talk series on a variety of dispute resolution topics. \nThe Spring 2025 ADR Speaker Series will include six influential thought leaders presenting new ideas and cutting edge research to members of the UC Law SF community and the general public. The ADR Speaker Series is held in conjunction with an Advanced ADR Colloquium course for students\, taught in 2025 by CNDR Director\, Professor Hiro Aragaki. \nTalks will be held from 12:30pm to 1:30pm (PST) on selected Wednesdays. Lunch will be provided for the in-person events. \nModerator\nHiro Aragaki\, Professor of Law and Director\, Center for Negotiation and Dispute Resolution (CNDR)\, UC Law San Francisco \n\n  \nREGISTER HERE\n\n  \n  \nSchedule of Speakers\n  \nWednesday\, January 22\, 2025 from 12:30-1:30pm (PT)\nThe Dynamics of Infrastructure Dispute Mitigation\nShahla Ali\, Professor of Law\, Associate Dean (International) and Director of the LLM Program in Arbitration and Dispute Resolution at the University of Hong Kong\, Faculty of Law \nIn-person and via Zoom \n  \nWednesday\, January 29\, 2025 from 12:30-1:30pm (PT)\nDealing with International Dispute Resolution; Multiple Parties and Wicked Problems\nCarrie Menkel-Meadow\, Chancellor’s Professor of Law and Political Science\, University of California\, Irvine and A.B. Chettle Jr. Professor of Law\, Dispute Resolution and Civil Procedure\, Emerita\, Georgetown University \nZoom only \n  \nWednesday\, February 12\, 2025 from 12:30-1:30pm (PT)\nSettlementality\nJesse Bregant\, Assistant Professor\, University of Houston Law Center \nZoom only \n  \nWednesday\, February 19 2025\, from 12:30-1:30pm (PT)\nThe Psychology of Lawyers in Litigation and Negotiation\nJean Sternlight\, Professor of Law and Director of the Criminal Law\, Justice & Policy Program at Texas A&M University School of Law \nZoom only \n  \nWednesday\, March 12\, 2025 from 12:30 – 1:30pm (PT)\nHow Can Real Practice System Theory Help Attorneys and Mediators Improve Their Performance?\nJohn M. Lande\, Isidor Loeb Professor Emeritus at the University of Missouri School of Law \nIn-person and via Zoom \nIn-person location: 333 Golden Gate Ave\, 2nd Floor\, Room 201 \n  \nWednesday\, March 19\, 2025 from 12:30 – 1:30pm (PT)\nJoint Session or Caucus? Factors Related to How the Initial Mediation Session Begins\nArt Hinshaw\, Associate Dean for Experiential Learning\, Faculty Director\, Lodestar Dispute Resolution Center\, Clinical Professor of Law\, Sandra Day O’Connor College of Law at Arizona State University \nZoom Only \n  \nMORE INFORMATION ON OUR WEBSITE
URL:https://www.uclawsf.edu/event/adr-speaker-series-spring-2025-2/
LOCATION:333-201 and Zoom
CATEGORIES:Students,Alumni,Featured,Public,Faculty
ORGANIZER;CN="Center for Negotiation and Dispute Resolution (CNDR)":MAILTO:cndr@uclawsf.edu
END:VEVENT
BEGIN:VEVENT
DTSTART;TZID=America/Los_Angeles:20250314T100000
DTEND;TZID=America/Los_Angeles:20250314T160000
DTSTAMP:20260420T061045
CREATED:20241023T222258Z
LAST-MODIFIED:20250306T191830Z
UID:10005948-1741946400-1741968000@www.uclawsf.edu
SUMMARY:Patients\, Providers\, Pills\, and Personhood Post-Dobbs
DESCRIPTION:This conference will focus on the health-justice impacts of the Dobbs decision repudiating the constitutional right to abortion. RSVP here. \nAgenda \n9:30 AM: Light breakfast offered \n  \n10 AM: Welcome \n  \n10:30-11:45 AM: Panel 1: Abortion Pills & Prosecutions \nRachel Rebouche\, Ushma Upadhyay\, Yvette Lindgren\, and Priscilla Ocen (moderated by Kate Weisburd) \n  \n11:45 AM-1:15 PM: Lunch and Conversation with Linda Greenhouse (moderated by Radhika Rao) \n  \n1:15-2:30 PM: Panel 2: Personhood \nSonia Suter\, Dana Sussman\, and Jill Wieber Lens (moderated by Radhika Rao) \n  \n2:30-3:45 PM: Panel 3: Patients & Providers  \nDiana Greene Foster\, Carole Joffe\, and Michelle Oberman (moderated by Sarah Hooper) \n  \n3:45-4 PM: Closing \n  \n4-5 PM: Reception \nFeatured speakers \nDiana Greene Foster– Professor in Residence\, UCSF; Director of Research\, ANSIRH \nLinda Greenhouse– Senior Research Scholar in Law\, Yale Law School \nCarole Joffe– Professor of Sociology Emerita\, UC Davis; Professor of Obstetrics and Gynecology\, Bixby Center for Global Reproductive Health; Professor\, ANSIRH \nJill Wieber Lens– Professor of Law\, University of Iowa College of Law \nYvette Lindgren– Associate Professor\, University of Missouri-Kansas City School of Law \nMichelle Oberman– Katharine and George Alexander Professor of Law\, Santa Clara University School of Law \nPriscilla Ocen– Professor of Law\, Loyola Law School \nRadhika Rao– Professor of Law\, UC Law SF \nRachel Rebouché– Dean & James E. Beasley Professor of Law\, Temple University Beasley School of Law \nDana Sussman– Senior Vice President\, Pregnancy Justice \nSonia Suter– Henry St. George Tucker III Dean’s Research Professor of Law; The Kahan Family Research Professor of Law; Founding Director\, Health Law Initiative\, GW Law \nUshma Upadhyay– Professor in Residence\, UCSF \nKate Weisburd– Professor of Law\, UC Law SF \nMary Ziegler– Martin Luther King Jr. Professor of Law\, UC Davis School of Law \n 
URL:https://www.uclawsf.edu/event/patients-providers-pills-and-personhood-post-dobbs/
LOCATION:333 Deb Colloquium and Sky Deck\, 5th Floor Cotchett Law Center\, 333 Golden Gate Avenue\, San Francisco\, CA\, 94102\, United States
CATEGORIES:Alumni,Featured,Staff,Public,Faculty,Students,UC LAW SF Community
END:VEVENT
BEGIN:VEVENT
DTSTART;TZID=America/Los_Angeles:20250317T170000
DTEND;TZID=America/Los_Angeles:20250317T190000
DTSTAMP:20260420T061045
CREATED:20250120T191022Z
LAST-MODIFIED:20250120T191022Z
UID:10006007-1742230800-1742238000@www.uclawsf.edu
SUMMARY:VITA Tax Clinic
DESCRIPTION:During the 2024 tax filing season\, the UC Law SF Volunteer Income Tax Assistance (VITA) clinic provide free tax assistance to people who generally make $67\,000 or less annually\, or people with disabilities who need assistance in preparing their own CA and Federal tax returns. The assistance sessions will be in-person\, located at 200 McAllister Street at Hyde in San Francisco.  The clinic will run on Mondays from 5:00 PM to 7:00 PM\, beginning February 3\, 2025\, through April 14\, 2025\, excluding February 17 and March 3.  The VITA clinic is drop-in only and does not take appointments. \nPlease bring with you:\n\nPhoto ID & Social Security Card or ITIN for each person on your tax return\nW-2 for all jobs\nAll 1099s\, 1098s\, and any other tax forms\nYour household’s health coverage information\, including Forms 1095-A\, B\, or C\, if applicable\nIf you received the Advanced Child Tax Credit in 2023\, Letter 6419\nLast year’s tax return\nSavings/ checking account and routing numbers for direct deposit\nClients are encouraged to wear a well-fitting mask (N95\, KN95\, or equivalent) on site\n\nFor more information about the VITA clinic\, including what to bring with you to have your taxes prepared\, please see this flyer.  If you have questions\, you can email us at vita@uclawsf.edu or call us at 628-207-1956.
URL:https://www.uclawsf.edu/event/vita-tax-clinic/2025-03-17/
CATEGORIES:Public
END:VEVENT
BEGIN:VEVENT
DTSTART;TZID=America/Los_Angeles:20250318T160000
DTEND;TZID=America/Los_Angeles:20250318T180000
DTSTAMP:20260420T061045
CREATED:20250225T211814Z
LAST-MODIFIED:20250225T211814Z
UID:10006259-1742313600-1742320800@www.uclawsf.edu
SUMMARY:The Ethical Negotiator: Mediation\, Confidentiality & Settlement Risks
DESCRIPTION:Ethical pitfalls in mediation and settlement negotiations can have lasting consequences for attorneys and their clients. This MCLE webinar brings together retired Judge and mediator Steve Austin\, mediator and UC Law adjunct professor Debra Bogaards\, and UC Law adjunct professor of negotiation John Dean to explore critical issues in legal ethics. Topics include confidentiality in mediation\, ethical drafting of binding settlement agreements (including mediator’s proposals and global settlements)\, and the risks of coercive tactics. The discussion will also cover the evolving challenges of client confidentiality in the digital age\, including cloud storage\, AI\, and the ethical responsibilities of supervising staff and vendors. Attendees will gain essential insights into navigating ethical obligations while ensuring compliance with professional standards. \n  \nThis program is co-presented by ADR Services\, Inc. and the UC Law Center for Negotiation & Dispute Resolution (CNDR) \n  \nLocation:\nWebinar \n  \nCost:\n$0 – Complimentary Program \n  \nClick here to register \n 
URL:https://www.uclawsf.edu/event/the-ethical-negotiator-mediation-confidentiality-settlement-risks/
LOCATION:Zoom\, San Francisco\, CA\, United States
CATEGORIES:Students,Alumni,Featured,Public,Faculty
ATTACH;FMTTYPE=image/jpeg:https://www.uclawsf.edu/wp-content/uploads/2025/02/2025.03.18-Ethical-Negotiator-SKA-DLB-JD-1.jpg
ORGANIZER;CN="Center for Negotiation and Dispute Resolution (CNDR)":MAILTO:cndr@uclawsf.edu
END:VEVENT
BEGIN:VEVENT
DTSTART;TZID=America/Los_Angeles:20250319T123000
DTEND;TZID=America/Los_Angeles:20250319T133000
DTSTAMP:20260420T061045
CREATED:20250312T210430Z
LAST-MODIFIED:20250312T210626Z
UID:10005983-1742387400-1742391000@www.uclawsf.edu
SUMMARY:ADR Speaker Series - Spring 2025
DESCRIPTION:  \n  \n  \n  \n  \n  \n  \n  \n  \n  \n  \n  \n  \n  \n  \n  \n  \n  \n  \n  \n  \n  \n  \n  \n  \nJoin the Center for Negotiation and Dispute Resolution (CNDR) at UC Law San Francisco for a public talk series on a variety of dispute resolution topics. \nThe Spring 2025 ADR Speaker Series will include six influential thought leaders presenting new ideas and cutting edge research to members of the UC Law SF community and the general public. The ADR Speaker Series is held in conjunction with an Advanced ADR Colloquium course for students\, taught in 2025 by CNDR Director\, Professor Hiro Aragaki. \nTalks will be held from 12:30pm to 1:30pm (PST) on selected Wednesdays. Lunch will be provided for the in-person events. \nModerator\nHiro Aragaki\, Professor of Law and Director\, Center for Negotiation and Dispute Resolution (CNDR)\, UC Law San Francisco \n\n  \nREGISTER HERE\n\n  \n  \nSchedule of Speakers\n  \nWednesday\, January 22\, 2025 from 12:30-1:30pm (PT)\nThe Dynamics of Infrastructure Dispute Mitigation\nShahla Ali\, Professor of Law\, Associate Dean (International) and Director of the LLM Program in Arbitration and Dispute Resolution at the University of Hong Kong\, Faculty of Law \nIn-person and via Zoom \n  \nWednesday\, January 29\, 2025 from 12:30-1:30pm (PT)\nDealing with International Dispute Resolution; Multiple Parties and Wicked Problems\nCarrie Menkel-Meadow\, Chancellor’s Professor of Law and Political Science\, University of California\, Irvine and A.B. Chettle Jr. Professor of Law\, Dispute Resolution and Civil Procedure\, Emerita\, Georgetown University \nZoom only \n  \nWednesday\, February 12\, 2025 from 12:30-1:30pm (PT)\nSettlementality\nJesse Bregant\, Assistant Professor\, University of Houston Law Center \nZoom only \n  \nWednesday\, February 19 2025\, from 12:30-1:30pm (PT)\nThe Psychology of Lawyers in Litigation and Negotiation\nJean Sternlight\, Professor of Law and Director of the Criminal Law\, Justice & Policy Program at Texas A&M University School of Law \nZoom only \n  \nWednesday\, March 12\, 2025 from 12:30 – 1:30pm (PT)\nHow Can Real Practice System Theory Help Attorneys and Mediators Improve Their Performance?\nJohn M. Lande\, Isidor Loeb Professor Emeritus at the University of Missouri School of Law \nIn-person and via Zoom \n  \nWednesday\, March 19\, 2025 from 12:30 – 1:30pm (PT)\nJoint Session or Caucus? Factors Related to How the Initial Mediation Session Begins\nArt Hinshaw\, Associate Dean for Experiential Learning\, Faculty Director\, Lodestar Dispute Resolution Center\, Clinical Professor of Law\, Sandra Day O’Connor College of Law at Arizona State University \nZoom Only \n  \nMORE INFORMATION ON OUR WEBSITE
URL:https://www.uclawsf.edu/event/adr-speaker-series-spring-2025-3/
LOCATION:Zoom\, San Francisco\, CA\, United States
CATEGORIES:Students,Alumni,Featured,Public,Faculty
ORGANIZER;CN="Center for Negotiation and Dispute Resolution (CNDR)":MAILTO:cndr@uclawsf.edu
END:VEVENT
BEGIN:VEVENT
DTSTART;TZID=America/Los_Angeles:20250321T090000
DTEND;TZID=America/Los_Angeles:20250321T170000
DTSTAMP:20260420T061045
CREATED:20250317T221527Z
LAST-MODIFIED:20250317T221527Z
UID:10006280-1742547600-1742576400@www.uclawsf.edu
SUMMARY:Corporate Disasters Conference
DESCRIPTION:Sponsored by the Office of the Research Dean\n  \nTo RSVP\, please email facultyevents@uclawsf.edu
URL:https://www.uclawsf.edu/event/corporate-disasters-conference-2025/
LOCATION:333 Deb Colloquium and Sky Deck\, 5th Floor Cotchett Law Center\, 333 Golden Gate Avenue\, San Francisco\, CA\, 94102\, United States
CATEGORIES:Alumni,Featured,Public,Faculty,Students,UC LAW SF Community
END:VEVENT
BEGIN:VEVENT
DTSTART;TZID=America/Los_Angeles:20250324T170000
DTEND;TZID=America/Los_Angeles:20250324T190000
DTSTAMP:20260420T061045
CREATED:20250120T191022Z
LAST-MODIFIED:20250120T191022Z
UID:10006008-1742835600-1742842800@www.uclawsf.edu
SUMMARY:VITA Tax Clinic
DESCRIPTION:During the 2024 tax filing season\, the UC Law SF Volunteer Income Tax Assistance (VITA) clinic provide free tax assistance to people who generally make $67\,000 or less annually\, or people with disabilities who need assistance in preparing their own CA and Federal tax returns. The assistance sessions will be in-person\, located at 200 McAllister Street at Hyde in San Francisco.  The clinic will run on Mondays from 5:00 PM to 7:00 PM\, beginning February 3\, 2025\, through April 14\, 2025\, excluding February 17 and March 3.  The VITA clinic is drop-in only and does not take appointments. \nPlease bring with you:\n\nPhoto ID & Social Security Card or ITIN for each person on your tax return\nW-2 for all jobs\nAll 1099s\, 1098s\, and any other tax forms\nYour household’s health coverage information\, including Forms 1095-A\, B\, or C\, if applicable\nIf you received the Advanced Child Tax Credit in 2023\, Letter 6419\nLast year’s tax return\nSavings/ checking account and routing numbers for direct deposit\nClients are encouraged to wear a well-fitting mask (N95\, KN95\, or equivalent) on site\n\nFor more information about the VITA clinic\, including what to bring with you to have your taxes prepared\, please see this flyer.  If you have questions\, you can email us at vita@uclawsf.edu or call us at 628-207-1956.
URL:https://www.uclawsf.edu/event/vita-tax-clinic/2025-03-24/
CATEGORIES:Public
END:VEVENT
BEGIN:VEVENT
DTSTART;TZID=America/Los_Angeles:20250325T173000
DTEND;TZID=America/Los_Angeles:20250325T190000
DTSTAMP:20260420T061045
CREATED:20260226T183807Z
LAST-MODIFIED:20260227T220553Z
UID:10006535-1742923800-1742929200@www.uclawsf.edu
SUMMARY:Birthright Citizenship: Surviving Through Solidarity
DESCRIPTION:Click here to RSVP!
URL:https://www.uclawsf.edu/event/birthright-citizenship-event/
LOCATION:CAA Conference Room\, 17 Walter U. Lum Place\, San Francisco\, 94108\, United States
CATEGORIES:UC LAW SF Community,Staff,Public,Faculty,Students
ORGANIZER;CN="Center for Race%2C Immigration%2C Citizenship and Equality":MAILTO:rice@uclawsf.edu
END:VEVENT
BEGIN:VEVENT
DTSTART;TZID=America/Los_Angeles:20250331T170000
DTEND;TZID=America/Los_Angeles:20250331T190000
DTSTAMP:20260420T061045
CREATED:20250120T191022Z
LAST-MODIFIED:20250120T191022Z
UID:10006009-1743440400-1743447600@www.uclawsf.edu
SUMMARY:VITA Tax Clinic
DESCRIPTION:During the 2024 tax filing season\, the UC Law SF Volunteer Income Tax Assistance (VITA) clinic provide free tax assistance to people who generally make $67\,000 or less annually\, or people with disabilities who need assistance in preparing their own CA and Federal tax returns. The assistance sessions will be in-person\, located at 200 McAllister Street at Hyde in San Francisco.  The clinic will run on Mondays from 5:00 PM to 7:00 PM\, beginning February 3\, 2025\, through April 14\, 2025\, excluding February 17 and March 3.  The VITA clinic is drop-in only and does not take appointments. \nPlease bring with you:\n\nPhoto ID & Social Security Card or ITIN for each person on your tax return\nW-2 for all jobs\nAll 1099s\, 1098s\, and any other tax forms\nYour household’s health coverage information\, including Forms 1095-A\, B\, or C\, if applicable\nIf you received the Advanced Child Tax Credit in 2023\, Letter 6419\nLast year’s tax return\nSavings/ checking account and routing numbers for direct deposit\nClients are encouraged to wear a well-fitting mask (N95\, KN95\, or equivalent) on site\n\nFor more information about the VITA clinic\, including what to bring with you to have your taxes prepared\, please see this flyer.  If you have questions\, you can email us at vita@uclawsf.edu or call us at 628-207-1956.
URL:https://www.uclawsf.edu/event/vita-tax-clinic/2025-03-31/
CATEGORIES:Public
END:VEVENT
END:VCALENDAR