BEGIN:VCALENDAR
VERSION:2.0
PRODID:-//UC Law San Francisco (Formerly UC Hastings) - ECPv6.3.2//NONSGML v1.0//EN
CALSCALE:GREGORIAN
METHOD:PUBLISH
X-WR-CALNAME:UC Law San Francisco (Formerly UC Hastings)
X-ORIGINAL-URL:https://www.uclawsf.edu
X-WR-CALDESC:Events for UC Law San Francisco (Formerly UC Hastings)
REFRESH-INTERVAL;VALUE=DURATION:PT1H
X-Robots-Tag:noindex
X-PUBLISHED-TTL:PT1H
BEGIN:VTIMEZONE
TZID:America/Los_Angeles
BEGIN:DAYLIGHT
TZOFFSETFROM:-0800
TZOFFSETTO:-0700
TZNAME:PDT
DTSTART:20260308T100000
END:DAYLIGHT
BEGIN:STANDARD
TZOFFSETFROM:-0700
TZOFFSETTO:-0800
TZNAME:PST
DTSTART:20261101T090000
END:STANDARD
END:VTIMEZONE
BEGIN:VEVENT
DTSTART;TZID=America/Los_Angeles:20260203T120000
DTEND;TZID=America/Los_Angeles:20260203T130000
DTSTAMP:20260423T074032
CREATED:20260202T171801Z
LAST-MODIFIED:20260202T171801Z
UID:10006513-1770120000-1770123600@www.uclawsf.edu
SUMMARY:Confronting AI: The Future of AI Regulation and Your Path to a Career in the AI and Tech Legal Fields.
DESCRIPTION:Professor Kenneth Rosen of the University of Alabama School of Law will serve as our keynote speaker and will be joined by UC Law SF’s own Professor Robin Feldman.  Professor Rosen brings deep expertise in international economic and legal regulatory frameworks\, while Professor Feldman specializes in the AI and technology space.  Together\, they will discuss how AI is likely to regulated\, how it should be regulated\, and what these developments mean for law students interested in careers in AI and technology law.  Both are leading voices in their fields\, but from starkly different parts of the country\, so you most certainly will want to hear their differing perspectives on this issue that confronts all our future careers!
URL:https://www.uclawsf.edu/event/confronting-ai-the-future-of-ai-regulation-and-your-path-to-a-career-in-the-ai-and-tech-legal-fields/
LOCATION:200-122\, 200 McAllister\, San Francisco\, CA\, 94102
CATEGORIES:Featured,Staff,Public,Faculty,Students,UC LAW SF Community
END:VEVENT
BEGIN:VEVENT
DTSTART;TZID=America/Los_Angeles:20260204T123000
DTEND;TZID=America/Los_Angeles:20260204T133000
DTSTAMP:20260423T074032
CREATED:20260105T232713Z
LAST-MODIFIED:20260105T232935Z
UID:10006501-1770208200-1770211800@www.uclawsf.edu
SUMMARY:Legalized Inequalities Immigration and Race in the Low-Wage Workplace
DESCRIPTION:  \nCLICK HERE TO RSVP
URL:https://www.uclawsf.edu/event/legalized-inequalities-immigration-and-race-in-the-low-wage-workplace/
LOCATION:333-501 and SkyDeck
CATEGORIES:Featured,Staff,Faculty,Students
END:VEVENT
BEGIN:VEVENT
DTSTART;TZID=America/Los_Angeles:20260205T123000
DTEND;TZID=America/Los_Angeles:20260205T133000
DTSTAMP:20260423T074032
CREATED:20260203T210215Z
LAST-MODIFIED:20260203T210554Z
UID:10006515-1770294600-1770298200@www.uclawsf.edu
SUMMARY:Startup Exits Explained: IPOs\, M&A\, and the Lawyer’s Role
DESCRIPTION:What does it really mean for a startup to “exit”? From strategic M&A to IPOs and secondary transactions\, exits are defining moments for founders\, investors\, and counsel alike. This lunch-time panel brings together company counsel\, investor counsel\, and buyer counsel to unpack how exits actually work in practice\, with a particular focus on M&A transactions. The discussion will explore how incentives diverge among stakeholders\, how the exit market has evolved\, and where junior lawyers can add real value early in their careers. \nFrancesca Crisera Ruiz\, M&A Partner at Squire Patton Boggs (Hastings ‘04) \nHeidi Walas\, Corporate ECVC Partner at Gunderson Dettmer (Hastings ’07) \nJake Winton\, Associate General Counsel at 8VC (Hastings ’20) \nModerator: Professor Evan Epstein\, UC Law SF
URL:https://www.uclawsf.edu/event/startup-exits-explained-ipos-ma-and-the-lawyers-role/
LOCATION:Alumni Reception Center\, 200 McAllister St\, San Francisco\, 94102\, United States
CATEGORIES:Alumni,Staff,Public,Faculty,Students,UC LAW SF Community,Academic Calendar and Holidays
END:VEVENT
BEGIN:VEVENT
DTSTART;TZID=America/Los_Angeles:20260210T123000
DTEND;TZID=America/Los_Angeles:20260210T133000
DTSTAMP:20260423T074032
CREATED:20251124T225543Z
LAST-MODIFIED:20260202T174646Z
UID:10006480-1770726600-1770730200@www.uclawsf.edu
SUMMARY:The 2026 Wiley Manuel Lecture - The Big Sort: Reconciling College\, Opportunity and Racial Justice  in American Society
DESCRIPTION:RSVP To Attend In-Person \nRSVP To Attend Virtually
URL:https://www.uclawsf.edu/event/the-2026-wiley-manuel-lecture-the-big-sort-reconciling-college-opportunity-and-racial-justice-in-american-society/
LOCATION:Deb Colloquium Room\, 333 Golden Gate\, San Francisco\, CA\, United States
CATEGORIES:Featured,Faculty,Students,UC LAW SF Community,Center for Racial and Economic Justice
END:VEVENT
BEGIN:VEVENT
DTSTART;TZID=America/Los_Angeles:20260210T123000
DTEND;TZID=America/Los_Angeles:20260210T133000
DTSTAMP:20260423T074032
CREATED:20251216T192419Z
LAST-MODIFIED:20260113T214038Z
UID:10006493-1770726600-1770730200@www.uclawsf.edu
SUMMARY:Certificate in Legal Research Program: California Legislative History Research
DESCRIPTION:Earn your Certificate in Legal Research – and a notation on your transcript – or just attend to learn how to research the legislative history of a California statute.  Pizza will be provided to students who RSVP by 5 pm the night before. RSVP at: https://hastingslawlibrary.wufoo.com/forms/r1mtuvfi0yohbmm/ \nYou are free to attend as few or as many classes as you like; however\, to complete the program\, you must attend a minimum of 5 live classes and earn 100% on 12 online quizzes by the time you graduate. To find out more about the program\, go to: https://www.uclawsf.edu/academics/library/legal-research-cert-program.
URL:https://www.uclawsf.edu/event/certificate-in-legal-research-program-california-legislative-history-research-2/
LOCATION:200-630
CATEGORIES:Featured,Students
END:VEVENT
BEGIN:VEVENT
DTSTART;TZID=America/Los_Angeles:20260218T080000
DTEND;TZID=America/Los_Angeles:20260218T200000
DTSTAMP:20260423T074032
CREATED:20251030T210943Z
LAST-MODIFIED:20251030T210943Z
UID:10006470-1771401600-1771444800@www.uclawsf.edu
SUMMARY:Comm/Ent Symposium
DESCRIPTION:A symposium about entertainment law. Featuring panelists and student speakers.
URL:https://www.uclawsf.edu/event/comm-ent-symposium/
LOCATION:200 ARC\, Alumni Reception Center\, 200 McAllister Street\, San Francisco\, CA\, 94102\, United States
CATEGORIES:Students
END:VEVENT
BEGIN:VEVENT
DTSTART;TZID=America/Los_Angeles:20260219T123000
DTEND;TZID=America/Los_Angeles:20260219T133000
DTSTAMP:20260423T074032
CREATED:20260213T182054Z
LAST-MODIFIED:20260213T182054Z
UID:10006518-1771504200-1771507800@www.uclawsf.edu
SUMMARY:Constitutional Democracy and Cookies
DESCRIPTION:  \nLink to Schedule.
URL:https://www.uclawsf.edu/event/constitutional-democracy-and-cookies/2026-02-19/
LOCATION:Dining Commons
CATEGORIES:Students
END:VEVENT
BEGIN:VEVENT
DTSTART;TZID=America/Los_Angeles:20260220T090000
DTEND;TZID=America/Los_Angeles:20260220T170000
DTSTAMP:20260423T074032
CREATED:20251009T205240Z
LAST-MODIFIED:20251009T205240Z
UID:10006451-1771578000-1771606800@www.uclawsf.edu
SUMMARY:UC Law Journal 2026 Symposium
DESCRIPTION:The UC Law Journal’s annual Symposium will feature speeches and panel discussions on an area of current interest and development in the law. Articles from speakers will also be featured in Issue 6 of the Journal.
URL:https://www.uclawsf.edu/event/uc-law-journal-2026-symposium/
LOCATION:Skydeck and Deb Colloquium Room\, 333 Golden Gate Avenue\, San Francisco\, CA\, 94102\, United States
CATEGORIES:Students
END:VEVENT
BEGIN:VEVENT
DTSTART;TZID=America/Los_Angeles:20260224T123000
DTEND;TZID=America/Los_Angeles:20260224T133000
DTSTAMP:20260423T074032
CREATED:20251216T192635Z
LAST-MODIFIED:20251217T160029Z
UID:10006494-1771936200-1771939800@www.uclawsf.edu
SUMMARY:Certificate in Legal Research Program: International Law Research (Zoom)
DESCRIPTION:Earn your Certificate in Legal Research – and a notation on your transcript – or just attend to learn how to research international law.  This session will take place on Zoom: https://uclawsf.zoom.us/j/96511676078 (passcode on Canvas). \nYou are free to attend as few or as many classes as you like; however\, to complete the program\, you must attend a minimum of 5 live classes and earn 100% on 12 online quizzes by the time you graduate. To find out more about the program\, go to: https://www.uclawsf.edu/academics/library/legal-research-cert-program.
URL:https://www.uclawsf.edu/event/certificate-in-legal-research-program-international-law-research-zoom/
LOCATION:Zoom\, San Francisco\, CA\, United States
CATEGORIES:Featured,Students
END:VEVENT
BEGIN:VEVENT
DTSTART;TZID=America/Los_Angeles:20260225T100000
DTEND;TZID=America/Los_Angeles:20260225T233000
DTSTAMP:20260423T074032
CREATED:20260218T180343Z
LAST-MODIFIED:20260218T180525Z
UID:10006527-1772013600-1772062200@www.uclawsf.edu
SUMMARY:Creating Justice: What Works and New Will
DESCRIPTION:Register Here!
URL:https://www.uclawsf.edu/event/creating-justice-what-works-and-new-will/
LOCATION:Online event
CATEGORIES:Students
END:VEVENT
BEGIN:VEVENT
DTSTART;TZID=America/Los_Angeles:20260225T163000
DTEND;TZID=America/Los_Angeles:20260225T180000
DTSTAMP:20260423T074032
CREATED:20260206T001436Z
LAST-MODIFIED:20260207T010704Z
UID:10006517-1772037000-1772042400@www.uclawsf.edu
SUMMARY:CEALS & CBL Present - Chinese Investment in the United States: Market Entry\, Compliance\, and Geopolitical Risk
DESCRIPTION:For over a decade\, China’s annual outbound investment has placed it among the top three sources of outbound investment globally.  Prior to the U.S.-China trade war\, the U.S. market was a top destination for Chinese investment.  As geopolitical tensions between the U.S. and China rise\, the flow of new Chinese investment to the U.S. is slowing\, and Chinese firms are grappling with complex new legal\, business\, and regulatory challenges.  The Center for East Asian Legal Studies and the Center for Business Law are pleased to welcome a distinguished panel of practitioners and advisors to share current insights on the operation and challenges of Chinese firms in the U.S. market. \n\n  \nPanelists include Kevin Cao\, Partner at K&L Gates; Darlene Chiu-Bryant\, Executive Director of Global SF; Jenny Liu\, Partner at Pillsbury\, and Keliang (Clay) Zhu\, Partner at DeHeng Law Offices.  \nSponsors: Center for East Asian Legal Studies and the Center for Business Law\n\nThis event is open to the public.\n\nTime: 4:30 to 6:00pm on Wednesday\, February 25\, 2026 \nLocation: Alumni Reception Center at University of California College of the Law\, San Francisco. \nA reception will follow the panel. \n\n  \nRSVP here
URL:https://www.uclawsf.edu/event/ceals-cbl-present-chinese-investment-in-the-united-states-market-entry-and-compliance-in-an-era-of-rising-geopolitical-tensions/
LOCATION:Alumni Reception Center\, 200 McAllister St\, San Francisco\, 94102\, United States
CATEGORIES:Alumni,Featured,Staff,Public,Faculty,Students,UC LAW SF Community,CEALS
END:VEVENT
BEGIN:VEVENT
DTSTART;TZID=America/Los_Angeles:20260227T123000
DTEND;TZID=America/Los_Angeles:20260227T133000
DTSTAMP:20260423T074032
CREATED:20260213T182054Z
LAST-MODIFIED:20260213T182054Z
UID:10006519-1772195400-1772199000@www.uclawsf.edu
SUMMARY:Constitutional Democracy and Cookies
DESCRIPTION:  \nLink to Schedule.
URL:https://www.uclawsf.edu/event/constitutional-democracy-and-cookies/2026-02-27/
LOCATION:Dining Commons
CATEGORIES:Students
END:VEVENT
BEGIN:VEVENT
DTSTART;TZID=America/Los_Angeles:20260227T140000
DTEND;TZID=America/Los_Angeles:20260227T170000
DTSTAMP:20260423T074032
CREATED:20260219T194028Z
LAST-MODIFIED:20260220T002118Z
UID:10006528-1772200800-1772211600@www.uclawsf.edu
SUMMARY:Who Controls Data in the Age of AI?  ​Portability\, Platforms\, and Power
DESCRIPTION:​ \n \nAbout the Event \n​Jointly hosted by DTI\, LexLab at UC Law San Francisco\, and GitHub\, this summit explores how law\, platform governance\, and artificial intelligence are reshaping who controls data—and how data can move—across the digital ecosystem. \n​ \nThe afternoon features two panel discussions bringing together scholars\, policymakers\, and practitioners to examine how portability is implemented on the ground\, how platforms and regulation shape real‑world outcomes\, and how AI is altering incentives\, capabilities\, and control over data. \n  \nInformation & Registration page: https://luma.com/kpf2voda
URL:https://www.uclawsf.edu/event/who-controls-data-in-the-age-of-ai-portability-platforms-and-power/
LOCATION:198 – 108
CATEGORIES:Faculty,Students,UC LAW SF Community
END:VEVENT
END:VCALENDAR