BEGIN:VCALENDAR
VERSION:2.0
PRODID:-//UC Law San Francisco (Formerly UC Hastings) - ECPv6.3.2//NONSGML v1.0//EN
CALSCALE:GREGORIAN
METHOD:PUBLISH
X-WR-CALNAME:UC Law San Francisco (Formerly UC Hastings)
X-ORIGINAL-URL:https://www.uclawsf.edu
X-WR-CALDESC:Events for UC Law San Francisco (Formerly UC Hastings)
REFRESH-INTERVAL;VALUE=DURATION:PT1H
X-Robots-Tag:noindex
X-PUBLISHED-TTL:PT1H
BEGIN:VTIMEZONE
TZID:America/Los_Angeles
BEGIN:DAYLIGHT
TZOFFSETFROM:-0800
TZOFFSETTO:-0700
TZNAME:PDT
DTSTART:20250309T100000
END:DAYLIGHT
BEGIN:STANDARD
TZOFFSETFROM:-0700
TZOFFSETTO:-0800
TZNAME:PST
DTSTART:20251102T090000
END:STANDARD
END:VTIMEZONE
BEGIN:VEVENT
DTSTART;TZID=America/Los_Angeles:20250402T103000
DTEND;TZID=America/Los_Angeles:20250402T110000
DTSTAMP:20260422T003555
CREATED:20250609T202215Z
LAST-MODIFIED:20250609T202216Z
UID:10006113-1743589800-1743591600@www.uclawsf.edu
SUMMARY:Spring 2025 UC Law SF Tax Policy Colloquium
DESCRIPTION:We are delighted to announce our spring 2025 speakers for the UC Law SF Tax Policy Colloquium. All talks are on Wednesdays between 10:50a-11a PST. If you are interested in attending\, please email tax@uclawsf.edu. \n  \nJanuary 22\, 2025:  Jeesoo Nam\, USC Gould School of Law\, presents Desert-Based Taxation \n  \nFebruary 12\, 2025:  John Brooks\, Fordham School of Law\, presents Did the Supreme Court Cause the 1929 Stock Market Crash? The Dark History of Stock Dividends \n  \nMarch 12\, 2025:  Hayes Holderness\, University of Richmond School of Law\, presents Multistate Tax Customs \n  \nApril 2\, 2025:  Natasha Sarin\, Yale Law School\, presents Broken Budgeting
URL:https://www.uclawsf.edu/event/spring-2025-uc-law-sf-tax-policy-colloquium-2-2/
CATEGORIES:Faculty,UC LAW SF Community
END:VEVENT
BEGIN:VEVENT
DTSTART;TZID=America/Los_Angeles:20250408T171000
DTEND;TZID=America/Los_Angeles:20250408T181000
DTSTAMP:20260422T003555
CREATED:20250331T205642Z
LAST-MODIFIED:20250331T205642Z
UID:10006308-1744132200-1744135800@www.uclawsf.edu
SUMMARY:Academic Planning for Tax-Interested Students
DESCRIPTION:Professor Field will host an academic planning session via Zoom for all students who are (or might be) interested in tax.  This session will discuss tax courses for the 2025-26 academic year to help current 1L and 2L students with academic planning.  The session will also discuss the tax concentration — what it is\, why you might (or might not) want to pursue it\, next steps if you might be interested\, what the requirements are\, how to plan to fit the requirements in with everything else you want/need to do in law school\, and more. The session will be recorded for students who cannot attend synchronously. \n  \nMeeting Link: https://uclawsf.zoom.us/j/94350520178
URL:https://www.uclawsf.edu/event/academic-planning-for-tax-interested-students/
LOCATION:Zoom\, San Francisco\, CA\, United States
CATEGORIES:Featured,Students,UC LAW SF Community
ORGANIZER;CN="UC Law SF Center on Tax Law":MAILTO:tax@uclawsf.edu
END:VEVENT
END:VCALENDAR