BEGIN:VCALENDAR
VERSION:2.0
PRODID:-//UC Law San Francisco (Formerly UC Hastings) - ECPv6.3.2//NONSGML v1.0//EN
CALSCALE:GREGORIAN
METHOD:PUBLISH
X-ORIGINAL-URL:https://www.uclawsf.edu
X-WR-CALDESC:Events for UC Law San Francisco (Formerly UC Hastings)
REFRESH-INTERVAL;VALUE=DURATION:PT1H
X-Robots-Tag:noindex
X-PUBLISHED-TTL:PT1H
BEGIN:VTIMEZONE
TZID:America/Los_Angeles
BEGIN:DAYLIGHT
TZOFFSETFROM:-0800
TZOFFSETTO:-0700
TZNAME:PDT
DTSTART:20250309T100000
END:DAYLIGHT
BEGIN:STANDARD
TZOFFSETFROM:-0700
TZOFFSETTO:-0800
TZNAME:PST
DTSTART:20251102T090000
END:STANDARD
END:VTIMEZONE
BEGIN:VEVENT
DTSTART;TZID=America/Los_Angeles:20250226T161500
DTEND;TZID=America/Los_Angeles:20250226T180000
DTSTAMP:20260422T035909
CREATED:20250220T195858Z
LAST-MODIFIED:20250221T164926Z
UID:10006255-1740586500-1740592800@www.uclawsf.edu
SUMMARY:Policing as a Profession
DESCRIPTION:The Criminal Law Concentration proudly presents: \n 
URL:https://www.uclawsf.edu/event/policing-as-a-profession/
LOCATION:198-213
END:VEVENT
END:VCALENDAR