BEGIN:VCALENDAR
VERSION:2.0
PRODID:-//UC Law San Francisco (Formerly UC Hastings) - ECPv6.3.2//NONSGML v1.0//EN
CALSCALE:GREGORIAN
METHOD:PUBLISH
X-WR-CALNAME:UC Law San Francisco (Formerly UC Hastings)
X-ORIGINAL-URL:https://www.uclawsf.edu
X-WR-CALDESC:Events for UC Law San Francisco (Formerly UC Hastings)
REFRESH-INTERVAL;VALUE=DURATION:PT1H
X-Robots-Tag:noindex
X-PUBLISHED-TTL:PT1H
BEGIN:VTIMEZONE
TZID:America/Los_Angeles
BEGIN:DAYLIGHT
TZOFFSETFROM:-0800
TZOFFSETTO:-0700
TZNAME:PDT
DTSTART:20260308T100000
END:DAYLIGHT
BEGIN:STANDARD
TZOFFSETFROM:-0700
TZOFFSETTO:-0800
TZNAME:PST
DTSTART:20261101T090000
END:STANDARD
END:VTIMEZONE
BEGIN:VEVENT
DTSTART;TZID=America/Los_Angeles:20260303T180000
DTEND;TZID=America/Los_Angeles:20260303T193000
DTSTAMP:20260421T085554
CREATED:20260218T170350Z
LAST-MODIFIED:20260218T200326Z
UID:10006526-1772560800-1772566200@www.uclawsf.edu
SUMMARY:March 3 Lecture–A History of Immigration Law: How We Got Here
DESCRIPTION:Click Here to RSVP  \nThis is an off-campus event.
URL:https://www.uclawsf.edu/event/march-3-lecture-a-history-of-immigration-law-how-we-got-here/
LOCATION:Edith Stone Room\, 1249 Marin Ave\, Albany\, 94706\, United States
CATEGORIES:Alumni,Staff,Faculty,Students
ORGANIZER;CN="Center for Race%2C Immigration%2C Citizenship and Equality":MAILTO:rice@uclawsf.edu
END:VEVENT
END:VCALENDAR