BEGIN:VCALENDAR
VERSION:2.0
PRODID:-//UC Law San Francisco (Formerly UC Hastings) - ECPv6.3.2//NONSGML v1.0//EN
CALSCALE:GREGORIAN
METHOD:PUBLISH
X-ORIGINAL-URL:https://www.uclawsf.edu
X-WR-CALDESC:Events for UC Law San Francisco (Formerly UC Hastings)
REFRESH-INTERVAL;VALUE=DURATION:PT1H
X-Robots-Tag:noindex
X-PUBLISHED-TTL:PT1H
BEGIN:VTIMEZONE
TZID:America/Los_Angeles
BEGIN:DAYLIGHT
TZOFFSETFROM:-0800
TZOFFSETTO:-0700
TZNAME:PDT
DTSTART:20250309T100000
END:DAYLIGHT
BEGIN:STANDARD
TZOFFSETFROM:-0700
TZOFFSETTO:-0800
TZNAME:PST
DTSTART:20251102T090000
END:STANDARD
END:VTIMEZONE
BEGIN:VEVENT
DTSTART;TZID=America/Los_Angeles:20250206T123000
DTEND;TZID=America/Los_Angeles:20250206T133000
DTSTAMP:20260423T130225
CREATED:20241024T225213Z
LAST-MODIFIED:20241024T225213Z
UID:10005951-1738845000-1738848600@www.uclawsf.edu
SUMMARY:Scholarship Panel
DESCRIPTION:Scholarship panel featuring environmental and environmental adjacent faculty and practitioners\, where they discuss their academic and practical advocacy.
URL:https://www.uclawsf.edu/event/scholarship-panel-2/
LOCATION:Deb Colloquium Room\, 333 Golden Gate\, San Francisco\, CA\, United States
CATEGORIES:Students
END:VEVENT
BEGIN:VEVENT
DTSTART;TZID=America/Los_Angeles:20250214T090000
DTEND;TZID=America/Los_Angeles:20250214T143000
DTSTAMP:20260423T130225
CREATED:20241220T173857Z
LAST-MODIFIED:20250115T173549Z
UID:10005987-1739523600-1739543400@www.uclawsf.edu
SUMMARY:Reproductive Justice and Health Symposium
DESCRIPTION:Three panels of speakers will discuss prevalent issues regarding reproductive justice\, such as the disproportionate impact on women of color\, the barriers that minors face\, and the conflicts health care professionals face when trying to care for their patients
URL:https://www.uclawsf.edu/event/reproductive-justice-and-health-symposium/
LOCATION:333-LL01\, 333 Golden Gate\, San Francisco\, 94102\, United States
CATEGORIES:Students
ORGANIZER;CN="UC Law SF Journal on Gender and Justice":MAILTO:jgj@uclawsf.edu
END:VEVENT
BEGIN:VEVENT
DTSTART;TZID=America/Los_Angeles:20250219T123000
DTEND;TZID=America/Los_Angeles:20250219T133000
DTSTAMP:20260423T130226
CREATED:20250125T005900Z
LAST-MODIFIED:20250125T005900Z
UID:10006100-1739968200-1739971800@www.uclawsf.edu
SUMMARY:Communications And Entertainment Law Journal Spring 2025 Symposium: The Rise of Twitch Streamers and eSports
DESCRIPTION:Live streaming has become a titan of industry in the last few years; from eSports\, to gambling\, to general entertainment. This new technological gold rush has ushered in a mountain of copyright/IP issues and developments in sponsorships/advertising. How do we proceed? What are things to look out for in this emerging sphere of entertainment?
URL:https://www.uclawsf.edu/event/communications-and-entertainment-law-journal-spring-2025-symposium-the-rise-of-twitch-streamers-and-esports/
LOCATION:200 ARC\, Alumni Reception Center\, 200 McAllister Street\, San Francisco\, CA\, 94102\, United States
CATEGORIES:Students
END:VEVENT
BEGIN:VEVENT
DTSTART;TZID=America/Los_Angeles:20250220T083000
DTEND;TZID=America/Los_Angeles:20250220T170000
DTSTAMP:20260423T130226
CREATED:20250123T225634Z
LAST-MODIFIED:20250212T204458Z
UID:10006073-1740040200-1740070800@www.uclawsf.edu
SUMMARY:Chronically Online: Social Media Content Moderation's Struggle with the First Amendment
DESCRIPTION:Annual UCLJ symposium in tandem with the 6th Issue of the 76th edition. Focusing on content moderation and First Amendment issues. \nRegister for the Event
URL:https://www.uclawsf.edu/event/chronically-online-social-media-content-moderations-struggle-with-the-first-amendment/
LOCATION:198 Auditorium
CATEGORIES:Students
END:VEVENT
BEGIN:VEVENT
DTSTART;TZID=America/Los_Angeles:20250224T123000
DTEND;TZID=America/Los_Angeles:20250224T133000
DTSTAMP:20260423T130226
CREATED:20250206T152159Z
LAST-MODIFIED:20250206T152159Z
UID:10006154-1740400200-1740403800@www.uclawsf.edu
SUMMARY:JREJ Table Talk with Professor Coles
DESCRIPTION:JREJ Table Talk with Professor Coles regarding the new publication\, Taking the Name Brown in Vain: Separate But Equal\, Brown and the Harvard Case.
URL:https://www.uclawsf.edu/event/jrej-table-talk-with-professor-coles/
LOCATION:333-LL01\, 333 Golden Gate\, San Francisco\, 94102\, United States
CATEGORIES:Students
ORGANIZER;CN="UC Law Journal of Racial and Economic Justice":MAILTO:Hrplj@uclawsf.edu
END:VEVENT
BEGIN:VEVENT
DTSTART;TZID=America/Los_Angeles:20250226T170000
DTEND;TZID=America/Los_Angeles:20250226T190000
DTSTAMP:20260423T130226
CREATED:20250213T184233Z
LAST-MODIFIED:20250213T184233Z
UID:10006237-1740589200-1740596400@www.uclawsf.edu
SUMMARY:UC Law Business Journal Alumni Reunion
DESCRIPTION:UC Law Business Journal Alumni Reunion
URL:https://www.uclawsf.edu/event/uc-law-business-journal-alumni-reunion-2/
LOCATION:333 Quad\, 333 Golden Gate\, San Francisco\, CA\, 94102
CATEGORIES:Students
END:VEVENT
BEGIN:VEVENT
DTSTART;TZID=America/Los_Angeles:20250227T160000
DTEND;TZID=America/Los_Angeles:20250227T180000
DTSTAMP:20260423T130226
CREATED:20250207T003818Z
LAST-MODIFIED:20250207T003818Z
UID:10006228-1740672000-1740679200@www.uclawsf.edu
SUMMARY:UC Law Journal 1L Recruitment Event
DESCRIPTION:Drinks and food available for 1Ls and to interact with current UC Law Journal members and to have their questions answered.
URL:https://www.uclawsf.edu/event/uc-law-journal-1l-recruitment-event/
LOCATION:333 Quad\, 333 Golden Gate\, San Francisco\, CA\, 94102
CATEGORIES:Students
END:VEVENT
END:VCALENDAR