BEGIN:VCALENDAR
VERSION:2.0
PRODID:-//UC Law San Francisco (Formerly UC Hastings) - ECPv6.3.2//NONSGML v1.0//EN
CALSCALE:GREGORIAN
METHOD:PUBLISH
X-WR-CALNAME:UC Law San Francisco (Formerly UC Hastings)
X-ORIGINAL-URL:https://www.uclawsf.edu
X-WR-CALDESC:Events for UC Law San Francisco (Formerly UC Hastings)
REFRESH-INTERVAL;VALUE=DURATION:PT1H
X-Robots-Tag:noindex
X-PUBLISHED-TTL:PT1H
BEGIN:VTIMEZONE
TZID:America/Los_Angeles
BEGIN:DAYLIGHT
TZOFFSETFROM:-0800
TZOFFSETTO:-0700
TZNAME:PDT
DTSTART:20250309T100000
END:DAYLIGHT
BEGIN:STANDARD
TZOFFSETFROM:-0700
TZOFFSETTO:-0800
TZNAME:PST
DTSTART:20251102T090000
END:STANDARD
END:VTIMEZONE
BEGIN:VEVENT
DTSTART;TZID=America/Los_Angeles:20250227T160000
DTEND;TZID=America/Los_Angeles:20250227T180000
DTSTAMP:20260423T124851
CREATED:20250207T003818Z
LAST-MODIFIED:20250207T003818Z
UID:10006228-1740672000-1740679200@www.uclawsf.edu
SUMMARY:UC Law Journal 1L Recruitment Event
DESCRIPTION:Drinks and food available for 1Ls and to interact with current UC Law Journal members and to have their questions answered.
URL:https://www.uclawsf.edu/event/uc-law-journal-1l-recruitment-event/
LOCATION:333 Quad\, 333 Golden Gate\, San Francisco\, CA\, 94102
CATEGORIES:Students
END:VEVENT
END:VCALENDAR