BEGIN:VCALENDAR
VERSION:2.0
PRODID:-//UC Law San Francisco (Formerly UC Hastings) - ECPv6.3.2//NONSGML v1.0//EN
CALSCALE:GREGORIAN
METHOD:PUBLISH
X-ORIGINAL-URL:https://www.uclawsf.edu
X-WR-CALDESC:Events for UC Law San Francisco (Formerly UC Hastings)
REFRESH-INTERVAL;VALUE=DURATION:PT1H
X-Robots-Tag:noindex
X-PUBLISHED-TTL:PT1H
BEGIN:VTIMEZONE
TZID:America/Los_Angeles
BEGIN:DAYLIGHT
TZOFFSETFROM:-0800
TZOFFSETTO:-0700
TZNAME:PDT
DTSTART:20250309T100000
END:DAYLIGHT
BEGIN:STANDARD
TZOFFSETFROM:-0700
TZOFFSETTO:-0800
TZNAME:PST
DTSTART:20251102T090000
END:STANDARD
END:VTIMEZONE
BEGIN:VEVENT
DTSTART;TZID=America/Los_Angeles:20250402T170000
DTEND;TZID=America/Los_Angeles:20250402T190000
DTSTAMP:20260423T111523
CREATED:20250205T174211Z
LAST-MODIFIED:20250205T174211Z
UID:10006142-1743613200-1743620400@www.uclawsf.edu
SUMMARY:UC Law Journal 1L Mixer
DESCRIPTION:UC Law Journal annual pre-write-on competition mixer with 1Ls
URL:https://www.uclawsf.edu/event/uc-law-journal-1l-mixer/
LOCATION:333 Skydeck
CATEGORIES:Students
END:VEVENT
END:VCALENDAR