BEGIN:VCALENDAR
VERSION:2.0
PRODID:-//UC Law San Francisco (Formerly UC Hastings) - ECPv6.3.2//NONSGML v1.0//EN
CALSCALE:GREGORIAN
METHOD:PUBLISH
X-ORIGINAL-URL:https://www.uclawsf.edu
X-WR-CALDESC:Events for UC Law San Francisco (Formerly UC Hastings)
REFRESH-INTERVAL;VALUE=DURATION:PT1H
X-Robots-Tag:noindex
X-PUBLISHED-TTL:PT1H
BEGIN:VTIMEZONE
TZID:America/Los_Angeles
BEGIN:DAYLIGHT
TZOFFSETFROM:-0800
TZOFFSETTO:-0700
TZNAME:PDT
DTSTART:20250309T100000
END:DAYLIGHT
BEGIN:STANDARD
TZOFFSETFROM:-0700
TZOFFSETTO:-0800
TZNAME:PST
DTSTART:20251102T090000
END:STANDARD
END:VTIMEZONE
BEGIN:VEVENT
DTSTART;TZID=America/Los_Angeles:20250115T123000
DTEND;TZID=America/Los_Angeles:20250115T133000
DTSTAMP:20260422T125319
CREATED:20250125T010556Z
LAST-MODIFIED:20250125T010556Z
UID:10006102-1736944200-1736947800@www.uclawsf.edu
SUMMARY:UCLAS General Council Meeting
DESCRIPTION:UC Law Associated Students biweekly General Council meeting\, open to all students.
URL:https://www.uclawsf.edu/event/uclas-general-council-meeting/
LOCATION:333-201
CATEGORIES:Students
ORGANIZER;CN="UCLAS":MAILTO:pres@uclawsf.edu
END:VEVENT
BEGIN:VEVENT
DTSTART;TZID=America/Los_Angeles:20250116T123000
DTEND;TZID=America/Los_Angeles:20250116T133000
DTSTAMP:20260422T125319
CREATED:20250205T172958Z
LAST-MODIFIED:20250205T172958Z
UID:10006133-1737030600-1737034200@www.uclawsf.edu
SUMMARY:ELS E-Board Summer Internship Panel
DESCRIPTION:The executive board of the Entertainment Law Society will be participating on a student panel for 1Ls to go over how they got their summer internships and to give advice and answer questions.
URL:https://www.uclawsf.edu/event/els-e-board-summer-internship-panel/
LOCATION:333-203\, San Francisco\, CA\, United States
CATEGORIES:Students
END:VEVENT
BEGIN:VEVENT
DTSTART;TZID=America/Los_Angeles:20250116T180000
DTEND;TZID=America/Los_Angeles:20250116T210000
DTSTAMP:20260422T125319
CREATED:20250125T005533Z
LAST-MODIFIED:20250125T005533Z
UID:10006098-1737050400-1737061200@www.uclawsf.edu
SUMMARY:Night with Fil-Am Judges
DESCRIPTION:In collaboration with the Filipino Bar Association of Northern California\, PALS will be hosting a panel with local filipinx judges.
URL:https://www.uclawsf.edu/event/night-with-fil-am-judges/
LOCATION:Deb Colloquium Room\, 333 Golden Gate\, San Francisco\, CA\, United States
CATEGORIES:Students
END:VEVENT
BEGIN:VEVENT
DTSTART;TZID=America/Los_Angeles:20250121T123000
DTEND;TZID=America/Los_Angeles:20250121T133000
DTSTAMP:20260422T125319
CREATED:20250205T172647Z
LAST-MODIFIED:20250205T173051Z
UID:10006130-1737462600-1737466200@www.uclawsf.edu
SUMMARY:Spring LLSA GBM
DESCRIPTION:LLSA’s Spring Semester General Body Meeting. We are introducing the calendar of events for the Spring Semester.
URL:https://www.uclawsf.edu/event/spring-llsa-gbm/
LOCATION:200-122\, 200 McAllister\, San Francisco\, CA\, 94102
CATEGORIES:Students
END:VEVENT
BEGIN:VEVENT
DTSTART;TZID=America/Los_Angeles:20250121T183000
DTEND;TZID=America/Los_Angeles:20250121T200000
DTSTAMP:20260422T125319
CREATED:20250125T003610Z
LAST-MODIFIED:20250125T003610Z
UID:10006090-1737484200-1737489600@www.uclawsf.edu
SUMMARY:Careers in Public Defense and Legal Aid
DESCRIPTION:APO speaker panel on careers/internships in public defense and legal aid in the Bay Area.
URL:https://www.uclawsf.edu/event/careers-in-public-defense-and-legal-aid/
LOCATION:200-630
CATEGORIES:Students
END:VEVENT
BEGIN:VEVENT
DTSTART;TZID=America/Los_Angeles:20250122T123000
DTEND;TZID=America/Los_Angeles:20250122T133000
DTSTAMP:20260422T125319
CREATED:20250124T195554Z
LAST-MODIFIED:20250124T195554Z
UID:10006082-1737549000-1737552600@www.uclawsf.edu
SUMMARY:EdLaw Summer Job Panel
DESCRIPTION:Former and current EdLaw board members will host a panel for 1L summer job advice.
URL:https://www.uclawsf.edu/event/edlaw-summer-job-panel/
LOCATION:333-203\, San Francisco\, CA\, United States
CATEGORIES:Students
END:VEVENT
BEGIN:VEVENT
DTSTART;TZID=America/Los_Angeles:20250124T080000
DTEND;TZID=America/Los_Angeles:20250124T133000
DTSTAMP:20260422T125320
CREATED:20241220T174038Z
LAST-MODIFIED:20250115T173620Z
UID:10005988-1737705600-1737725400@www.uclawsf.edu
SUMMARY:CLQ Spring 2025 Symposium
DESCRIPTION:UC Law Constitutional Law Quarterly is hosting practitioners and students for its Spring 2025 Symposium focusing on last SCOTUS term’s Grants Pass case and homelessness as a legal issue in the Bay Area.
URL:https://www.uclawsf.edu/event/clq-spring-2025-symposium/
LOCATION:Deb Colloquium Room\, 333 Golden Gate\, San Francisco\, CA\, United States
CATEGORIES:Students
END:VEVENT
BEGIN:VEVENT
DTSTART;TZID=America/Los_Angeles:20250124T180000
DTEND;TZID=America/Los_Angeles:20250124T200000
DTSTAMP:20260422T125320
CREATED:20250125T003331Z
LAST-MODIFIED:20250125T003331Z
UID:10006088-1737741600-1737748800@www.uclawsf.edu
SUMMARY:JLSA Shabbat
DESCRIPTION:
URL:https://www.uclawsf.edu/event/jlsa-shabbat/
LOCATION:Deb Colloquium Room\, 333 Golden Gate\, San Francisco\, CA\, United States
CATEGORIES:Students
END:VEVENT
BEGIN:VEVENT
DTSTART;TZID=America/Los_Angeles:20250127T123000
DTEND;TZID=America/Los_Angeles:20250127T133000
DTSTAMP:20260422T125320
CREATED:20250125T005637Z
LAST-MODIFIED:20250125T005637Z
UID:10006099-1737981000-1737984600@www.uclawsf.edu
SUMMARY:Los Angeles Fires Clothing Drive
DESCRIPTION:The Health Law and Policy Society will be collecting donations for those impacted in the recent LA fires.
URL:https://www.uclawsf.edu/event/los-angeles-fires-clothing-drive/
LOCATION:Dining Commons
CATEGORIES:Students
END:VEVENT
BEGIN:VEVENT
DTSTART;TZID=America/Los_Angeles:20250128T123000
DTEND;TZID=America/Los_Angeles:20250128T133000
DTSTAMP:20260422T125320
CREATED:20250205T174011Z
LAST-MODIFIED:20250205T174011Z
UID:10006140-1738067400-1738071000@www.uclawsf.edu
SUMMARY:SDR General Body Meeting
DESCRIPTION:Students for Disability Rights will be hosting its first GBM of the spring semester. We will cover upcoming events\, talk about upcoming advocacy opportunities\, and eat pizza.
URL:https://www.uclawsf.edu/event/sdr-general-body-meeting-2/
LOCATION:333-203\, San Francisco\, CA\, United States
CATEGORIES:Students
END:VEVENT
BEGIN:VEVENT
DTSTART;TZID=America/Los_Angeles:20250129T120000
DTEND;TZID=America/Los_Angeles:20250129T140000
DTSTAMP:20260422T125320
CREATED:20250125T010216Z
LAST-MODIFIED:20250125T010216Z
UID:10006101-1738152000-1738159200@www.uclawsf.edu
SUMMARY:Spring 2025 General Body Meeting
DESCRIPTION:Family Law Student Association is hosting their General Body Meeting for the 2025 Spring Semester.
URL:https://www.uclawsf.edu/event/spring-2025-general-body-meeting/
LOCATION:200-640\, 200 McAllister St\, San Francisco\, CA\, 94102
CATEGORIES:Students
END:VEVENT
BEGIN:VEVENT
DTSTART;TZID=America/Los_Angeles:20250129T123000
DTEND;TZID=America/Los_Angeles:20250129T133000
DTSTAMP:20260422T125320
CREATED:20250125T003722Z
LAST-MODIFIED:20250125T003722Z
UID:10006091-1738153800-1738157400@www.uclawsf.edu
SUMMARY:Sikh LSA General Body Meeting
DESCRIPTION:Our first meeting for the semester to chat\, de-brief the Fall semester\, and set goals for the Spring.
URL:https://www.uclawsf.edu/event/sikh-lsa-general-body-meeting/
LOCATION:333-LL04
CATEGORIES:Students
ORGANIZER;CN="Sikh Law Students Association (Sikh LSA)":MAILTO:sikhlsa@uclawsf.edu
END:VEVENT
BEGIN:VEVENT
DTSTART;TZID=America/Los_Angeles:20250129T123000
DTEND;TZID=America/Los_Angeles:20250129T133000
DTSTAMP:20260422T125320
CREATED:20250125T004114Z
LAST-MODIFIED:20250125T004114Z
UID:10006093-1738153800-1738157400@www.uclawsf.edu
SUMMARY:APALSA Spring General Body Meeting
DESCRIPTION:
URL:https://www.uclawsf.edu/event/apalsa-spring-general-body-meeting/
LOCATION:200-123
CATEGORIES:Students
END:VEVENT
BEGIN:VEVENT
DTSTART;TZID=America/Los_Angeles:20250129T123000
DTEND;TZID=America/Los_Angeles:20250129T133000
DTSTAMP:20260422T125320
CREATED:20250125T010625Z
LAST-MODIFIED:20250125T010625Z
UID:10006103-1738153800-1738157400@www.uclawsf.edu
SUMMARY:UCLAS General Council Meeting
DESCRIPTION:UC Law Associated Students biweekly General Council meeting\, open to all students.
URL:https://www.uclawsf.edu/event/uclas-general-council-meeting-2/
LOCATION:333-201
CATEGORIES:Students
ORGANIZER;CN="UCLAS":MAILTO:pres@uclawsf.edu
END:VEVENT
BEGIN:VEVENT
DTSTART;TZID=America/Los_Angeles:20250129T123000
DTEND;TZID=America/Los_Angeles:20250129T133000
DTSTAMP:20260422T125320
CREATED:20250205T173346Z
LAST-MODIFIED:20250205T173346Z
UID:10006135-1738153800-1738157400@www.uclawsf.edu
SUMMARY:HLPS Career Panel
DESCRIPTION:Lawyers and JD-advantage professionals will join the Health Law and Policy Society to share about health law career pathways.
URL:https://www.uclawsf.edu/event/hlps-career-panel/
LOCATION:Baxter Courtoom – 198 McAllister\, Room 108
CATEGORIES:Students
END:VEVENT
BEGIN:VEVENT
DTSTART;TZID=America/Los_Angeles:20250129T150000
DTEND;TZID=America/Los_Angeles:20250129T170000
DTSTAMP:20260422T125320
CREATED:20250124T193446Z
LAST-MODIFIED:20250124T193446Z
UID:10006075-1738162800-1738170000@www.uclawsf.edu
SUMMARY:LIPA x White and Case LLP Headshots
DESCRIPTION:The law firm\, White and Case LLP\, is partnering with LIPA to offer headshots and networking to students.
URL:https://www.uclawsf.edu/event/lipa-x-white-and-case-llp-headshots/
LOCATION:Dobbs Atrium
CATEGORIES:Students
END:VEVENT
BEGIN:VEVENT
DTSTART;TZID=America/Los_Angeles:20250130T120000
DTEND;TZID=America/Los_Angeles:20250130T130000
DTSTAMP:20260422T125320
CREATED:20250124T200051Z
LAST-MODIFIED:20250124T200051Z
UID:10006084-1738238400-1738242000@www.uclawsf.edu
SUMMARY:Korean American Law Association General Board Meeting
DESCRIPTION:
URL:https://www.uclawsf.edu/event/korean-american-law-association-general-board-meeting/
LOCATION:333-203\, San Francisco\, CA\, United States
CATEGORIES:Students
END:VEVENT
BEGIN:VEVENT
DTSTART;TZID=America/Los_Angeles:20250130T123000
DTEND;TZID=America/Los_Angeles:20250130T133000
DTSTAMP:20260422T125320
CREATED:20250124T194030Z
LAST-MODIFIED:20250124T194043Z
UID:10006077-1738240200-1738243800@www.uclawsf.edu
SUMMARY:LIPA Spring GBM
DESCRIPTION:LIPA is hosting it’s Spring GBM to go over our calendar of events for the semester and to notify 1Ls on opportunities they can take advantage of to get involved.
URL:https://www.uclawsf.edu/event/lipa-spring-gbm-lipa-spring-gbm/
LOCATION:200-640\, 200 McAllister St\, San Francisco\, CA\, 94102
CATEGORIES:Students
END:VEVENT
BEGIN:VEVENT
DTSTART;TZID=America/Los_Angeles:20250130T123000
DTEND;TZID=America/Los_Angeles:20250130T133000
DTSTAMP:20260422T125320
CREATED:20250205T173908Z
LAST-MODIFIED:20250205T173908Z
UID:10006139-1738240200-1738243800@www.uclawsf.edu
SUMMARY:National Lawyers Guild GBM
DESCRIPTION:Spring semester general body meeting for the National Lawyer’s Guild
URL:https://www.uclawsf.edu/event/national-lawyers-guild-gbm/
LOCATION:333-LL03\, 333 Golden Gate\, San Francisco\, CA\, 94102\, United States
CATEGORIES:Students
END:VEVENT
BEGIN:VEVENT
DTSTART;TZID=America/Los_Angeles:20250131T123000
DTEND;TZID=America/Los_Angeles:20250131T133000
DTSTAMP:20260422T125320
CREATED:20250124T201646Z
LAST-MODIFIED:20250124T201646Z
UID:10006086-1738326600-1738330200@www.uclawsf.edu
SUMMARY:PALS Spring Semester General Body Meeting
DESCRIPTION:Hey PALS! Welcome to our General Body Meeting for this semester.
URL:https://www.uclawsf.edu/event/pals-spring-semester-general-body-meeting/
LOCATION:200-122\, 200 McAllister\, San Francisco\, CA\, 94102
CATEGORIES:Students
END:VEVENT
BEGIN:VEVENT
DTSTART;TZID=America/Los_Angeles:20250131T123000
DTEND;TZID=America/Los_Angeles:20250131T133000
DTSTAMP:20260422T125320
CREATED:20250205T173604Z
LAST-MODIFIED:20250205T173604Z
UID:10006137-1738326600-1738330200@www.uclawsf.edu
SUMMARY:If/When/How Spring General Body Meeting
DESCRIPTION:
URL:https://www.uclawsf.edu/event/if-when-how-spring-general-body-meeting/
LOCATION:200-123
CATEGORIES:Students
END:VEVENT
END:VCALENDAR