BEGIN:VCALENDAR
VERSION:2.0
PRODID:-//UC Law San Francisco (Formerly UC Hastings) - ECPv6.3.2//NONSGML v1.0//EN
CALSCALE:GREGORIAN
METHOD:PUBLISH
X-ORIGINAL-URL:https://www.uclawsf.edu
X-WR-CALDESC:Events for UC Law San Francisco (Formerly UC Hastings)
REFRESH-INTERVAL;VALUE=DURATION:PT1H
X-Robots-Tag:noindex
X-PUBLISHED-TTL:PT1H
BEGIN:VTIMEZONE
TZID:America/Los_Angeles
BEGIN:DAYLIGHT
TZOFFSETFROM:-0800
TZOFFSETTO:-0700
TZNAME:PDT
DTSTART:20250309T100000
END:DAYLIGHT
BEGIN:STANDARD
TZOFFSETFROM:-0700
TZOFFSETTO:-0800
TZNAME:PST
DTSTART:20251102T090000
END:STANDARD
END:VTIMEZONE
BEGIN:VEVENT
DTSTART;TZID=America/Los_Angeles:20250401T123000
DTEND;TZID=America/Los_Angeles:20250401T133000
DTSTAMP:20260422T181543
CREATED:20250124T193822Z
LAST-MODIFIED:20250124T193822Z
UID:10006076-1743510600-1743514200@www.uclawsf.edu
SUMMARY:Surviving 2L Panel
DESCRIPTION:The board will be giving tips and tricks to 1Ls to make the most out of their 2L year.
URL:https://www.uclawsf.edu/event/surviving-2l-panel/
LOCATION:333-202
CATEGORIES:Students
END:VEVENT
BEGIN:VEVENT
DTSTART;TZID=America/Los_Angeles:20250401T123000
DTEND;TZID=America/Los_Angeles:20250401T133000
DTSTAMP:20260422T181543
CREATED:20250206T234102Z
LAST-MODIFIED:20250206T234102Z
UID:10006163-1743510600-1743514200@www.uclawsf.edu
SUMMARY:UC Law Christians Weekly Meeting
DESCRIPTION:
URL:https://www.uclawsf.edu/event/uc-law-christians-weekly-meeting/2025-04-01/
LOCATION:198-205
CATEGORIES:Students
END:VEVENT
BEGIN:VEVENT
DTSTART;TZID=America/Los_Angeles:20250401T123000
DTEND;TZID=America/Los_Angeles:20250401T133000
DTSTAMP:20260422T181543
CREATED:20250213T185019Z
LAST-MODIFIED:20250213T185019Z
UID:10006243-1743510600-1743514200@www.uclawsf.edu
SUMMARY:If/When/How X WLS X CARE - Reproductive Justice Career Panel
DESCRIPTION:
URL:https://www.uclawsf.edu/event/if-when-how-x-wls-x-care-reproductive-justice-career-panel/
LOCATION:198-106
CATEGORIES:Students
END:VEVENT
BEGIN:VEVENT
DTSTART;TZID=America/Los_Angeles:20250402T120000
DTEND;TZID=America/Los_Angeles:20250402T133000
DTSTAMP:20260422T181543
CREATED:20250319T224951Z
LAST-MODIFIED:20250319T224951Z
UID:10006288-1743595200-1743600600@www.uclawsf.edu
SUMMARY:Narcan Overdose Training
DESCRIPTION:HLS and DPH will be hosting an overdose prevention and narcan training.
URL:https://www.uclawsf.edu/event/narcan-overdose-training/
LOCATION:333-101\, 333 Golden Gate\, San Francisco\, CA\, United States
CATEGORIES:Students
GEO:37.7813548;-122.4161985
X-APPLE-STRUCTURED-LOCATION;VALUE=URI;X-ADDRESS=333-101 333 Golden Gate San Francisco CA United States;X-APPLE-RADIUS=500;X-TITLE=333 Golden Gate:geo:-122.4161985,37.7813548
END:VEVENT
BEGIN:VEVENT
DTSTART;TZID=America/Los_Angeles:20250402T123000
DTEND;TZID=America/Los_Angeles:20250402T133000
DTSTAMP:20260422T181543
CREATED:20250304T180938Z
LAST-MODIFIED:20250304T180938Z
UID:10006267-1743597000-1743600600@www.uclawsf.edu
SUMMARY:OUTLaw Wellness Event
DESCRIPTION:Please join OUTLaw for a Wellness event.
URL:https://www.uclawsf.edu/event/outlaw-wellness-event/
LOCATION:200-122\, 200 McAllister\, San Francisco\, CA\, 94102
CATEGORIES:Students
END:VEVENT
BEGIN:VEVENT
DTSTART;TZID=America/Los_Angeles:20250402T170000
DTEND;TZID=America/Los_Angeles:20250402T190000
DTSTAMP:20260422T181543
CREATED:20250205T174211Z
LAST-MODIFIED:20250205T174211Z
UID:10006142-1743613200-1743620400@www.uclawsf.edu
SUMMARY:UC Law Journal 1L Mixer
DESCRIPTION:UC Law Journal annual pre-write-on competition mixer with 1Ls
URL:https://www.uclawsf.edu/event/uc-law-journal-1l-mixer/
LOCATION:333 Skydeck
CATEGORIES:Students
END:VEVENT
BEGIN:VEVENT
DTSTART;TZID=America/Los_Angeles:20250403T123000
DTEND;TZID=America/Los_Angeles:20250403T133000
DTSTAMP:20260422T181543
CREATED:20250319T225617Z
LAST-MODIFIED:20250319T225617Z
UID:10006294-1743683400-1743687000@www.uclawsf.edu
SUMMARY:HLPS GBM
DESCRIPTION:Health Law and Policy Society General Body Meeting.
URL:https://www.uclawsf.edu/event/hlps-gbm/
LOCATION:333-203\, San Francisco\, CA\, United States
CATEGORIES:Students
END:VEVENT
BEGIN:VEVENT
DTSTART;TZID=America/Los_Angeles:20250403T153000
DTEND;TZID=America/Los_Angeles:20250403T190000
DTSTAMP:20260422T181543
CREATED:20250207T003132Z
LAST-MODIFIED:20250207T003132Z
UID:10006222-1743694200-1743706800@www.uclawsf.edu
SUMMARY:Sharks on the Quad
DESCRIPTION:Please join UCLAS for Sharks on the Quad!
URL:https://www.uclawsf.edu/event/sharks-on-the-quad-5/2025-04-03/
LOCATION:333 Quad\, 333 Golden Gate\, San Francisco\, CA\, 94102
CATEGORIES:Students,UC LAW SF Community
ORGANIZER;CN="UCLAS":MAILTO:pres@uclawsf.edu
END:VEVENT
BEGIN:VEVENT
DTSTART;TZID=America/Los_Angeles:20250403T160000
DTEND;TZID=America/Los_Angeles:20250403T170000
DTSTAMP:20260422T181543
CREATED:20250421T184513Z
LAST-MODIFIED:20250421T184513Z
UID:10006322-1743696000-1743699600@www.uclawsf.edu
SUMMARY:SDR End of Semester Wellness/Graduation Event
DESCRIPTION:SDR will host an end of semester wellness event. We will offer mindfulness activities such as coloring and “zentangle” lessons.
URL:https://www.uclawsf.edu/event/sdr-end-of-semester-wellness-graduation-event/
LOCATION:200-123
CATEGORIES:Students
END:VEVENT
BEGIN:VEVENT
DTSTART;TZID=America/Los_Angeles:20250403T160000
DTEND;TZID=America/Los_Angeles:20250403T190000
DTSTAMP:20260422T181543
CREATED:20250319T231054Z
LAST-MODIFIED:20250319T231054Z
UID:10006304-1743696000-1743706800@www.uclawsf.edu
SUMMARY:VGLS Spring Final Lap Event
DESCRIPTION:Join VGLS for a fun game night to decompress and connect with others before going into finals. Food and drinks provided\, potions craft supplies\, as well as video and board games.
URL:https://www.uclawsf.edu/event/vgls-spring-final-lap-event/
LOCATION:333-LL04
CATEGORIES:Students
ORGANIZER;CN="Video Game Law Society (HVGLS)":MAILTO:hvgls@uclawsf.edu
END:VEVENT
BEGIN:VEVENT
DTSTART;TZID=America/Los_Angeles:20250403T180000
DTEND;TZID=America/Los_Angeles:20250403T200000
DTSTAMP:20260422T181543
CREATED:20250319T223108Z
LAST-MODIFIED:20250319T223108Z
UID:10006284-1743703200-1743710400@www.uclawsf.edu
SUMMARY:UCLATS Spring Mixer Event
DESCRIPTION:UCLATS Spring Mixer Event with students\, professors\, and alumnus.
URL:https://www.uclawsf.edu/event/uclats-spring-mixer-event/
LOCATION:Deb Colloquium Room\, 333 Golden Gate\, San Francisco\, CA\, United States
CATEGORIES:Students
END:VEVENT
BEGIN:VEVENT
DTSTART;TZID=America/Los_Angeles:20250405T100000
DTEND;TZID=America/Los_Angeles:20250405T170000
DTSTAMP:20260422T181543
CREATED:20250205T175128Z
LAST-MODIFIED:20250205T175128Z
UID:10006147-1743847200-1743872400@www.uclawsf.edu
SUMMARY:Earth Month Event with Pro Bono
DESCRIPTION:Inviting guest speakers to discuss the intersection of settler colonialism and the environment.
URL:https://www.uclawsf.edu/event/earth-month-event-with-pro-bono/
LOCATION:333-101\, 333 Golden Gate\, San Francisco\, CA\, United States
CATEGORIES:Students
GEO:37.7813548;-122.4161985
X-APPLE-STRUCTURED-LOCATION;VALUE=URI;X-ADDRESS=333-101 333 Golden Gate San Francisco CA United States;X-APPLE-RADIUS=500;X-TITLE=333 Golden Gate:geo:-122.4161985,37.7813548
END:VEVENT
BEGIN:VEVENT
DTSTART;TZID=America/Los_Angeles:20250408T123000
DTEND;TZID=America/Los_Angeles:20250408T133000
DTSTAMP:20260422T181543
CREATED:20250205T172730Z
LAST-MODIFIED:20250421T185115Z
UID:10006131-1744115400-1744119000@www.uclawsf.edu
SUMMARY:Final LLSA GBM
DESCRIPTION:
URL:https://www.uclawsf.edu/event/final-llsa-gbm/
LOCATION:200-122\, 200 McAllister\, San Francisco\, CA\, 94102
CATEGORIES:Students
END:VEVENT
BEGIN:VEVENT
DTSTART;TZID=America/Los_Angeles:20250408T123000
DTEND;TZID=America/Los_Angeles:20250408T133000
DTSTAMP:20260422T181543
CREATED:20250206T234102Z
LAST-MODIFIED:20250206T234102Z
UID:10006164-1744115400-1744119000@www.uclawsf.edu
SUMMARY:UC Law Christians Weekly Meeting
DESCRIPTION:
URL:https://www.uclawsf.edu/event/uc-law-christians-weekly-meeting/2025-04-08/
LOCATION:198-205
CATEGORIES:Students
END:VEVENT
BEGIN:VEVENT
DTSTART;TZID=America/Los_Angeles:20250408T123000
DTEND;TZID=America/Los_Angeles:20250408T133000
DTSTAMP:20260422T181543
CREATED:20250421T184305Z
LAST-MODIFIED:20250421T184305Z
UID:10006320-1744115400-1744119000@www.uclawsf.edu
SUMMARY:How to Take Care of Yourself While Taking Care of Others
DESCRIPTION:Lunchtime talk with crafts and Professor Kate Weisburd and Professor Prithika Balakrishnan.
URL:https://www.uclawsf.edu/event/how-to-take-care-of-yourself-while-taking-care-of-others/
LOCATION:200-630
CATEGORIES:Students
END:VEVENT
BEGIN:VEVENT
DTSTART;TZID=America/Los_Angeles:20250409T120000
DTEND;TZID=America/Los_Angeles:20250409T133000
DTSTAMP:20260422T181543
CREATED:20250421T184722Z
LAST-MODIFIED:20250421T184722Z
UID:10006324-1744200000-1744205400@www.uclawsf.edu
SUMMARY:Final GBM
DESCRIPTION:General body meeting for SIR that includes updates about board applications\, volunteer opportunities\, and socializing.
URL:https://www.uclawsf.edu/event/final-gbm/
LOCATION:200-122\, 200 McAllister\, San Francisco\, CA\, 94102
CATEGORIES:Students
END:VEVENT
BEGIN:VEVENT
DTSTART;TZID=America/Los_Angeles:20250409T123000
DTEND;TZID=America/Los_Angeles:20250409T133000
DTSTAMP:20260422T181543
CREATED:20250125T010839Z
LAST-MODIFIED:20250125T010839Z
UID:10006108-1744201800-1744205400@www.uclawsf.edu
SUMMARY:UCLAS General Council Meeting
DESCRIPTION:UC Law Associated Students biweekly General Council meeting\, open to all students.
URL:https://www.uclawsf.edu/event/uclas-general-council-meeting-12/
LOCATION:333-201
CATEGORIES:Students
ORGANIZER;CN="UCLAS":MAILTO:pres@uclawsf.edu
END:VEVENT
BEGIN:VEVENT
DTSTART;TZID=America/Los_Angeles:20250409T123000
DTEND;TZID=America/Los_Angeles:20250409T133000
DTSTAMP:20260422T181543
CREATED:20250319T225728Z
LAST-MODIFIED:20250319T225728Z
UID:10006295-1744201800-1744205400@www.uclawsf.edu
SUMMARY:LEAP Presents Puddles & Paint
DESCRIPTION:The Law Empowerment and Access Project invites you to join us for food\, juice\, friendship and painting! Come destress before finals and make some Froggy Friends!
URL:https://www.uclawsf.edu/event/leap-presents-puddles-paint/
LOCATION:333 Skydeck
CATEGORIES:Students
END:VEVENT
BEGIN:VEVENT
DTSTART;TZID=America/Los_Angeles:20250409T123000
DTEND;TZID=America/Los_Angeles:20250409T133000
DTSTAMP:20260422T181543
CREATED:20250421T184619Z
LAST-MODIFIED:20250421T184619Z
UID:10006323-1744201800-1744205400@www.uclawsf.edu
SUMMARY:Surviving 2L
DESCRIPTION:The board will be giving advice and answering questions to current 1Ls regarding extracurriculars for their 2L year.
URL:https://www.uclawsf.edu/event/surviving-2l/
LOCATION:333-LL01\, 333 Golden Gate\, San Francisco\, 94102\, United States
CATEGORIES:Students
END:VEVENT
BEGIN:VEVENT
DTSTART;TZID=America/Los_Angeles:20250409T123000
DTEND;TZID=America/Los_Angeles:20250409T133000
DTSTAMP:20260422T181543
CREATED:20250421T184816Z
LAST-MODIFIED:20250421T184816Z
UID:10006325-1744201800-1744205400@www.uclawsf.edu
SUMMARY:Electronic Frontier Foundation x TLS x LIPA Presents Digital Rights + IP Fights
DESCRIPTION:Join TLS and LIPA to learn about protecting our online civil liberties as well as other pro bono opportunities in tech!
URL:https://www.uclawsf.edu/event/electronic-frontier-foundation-x-tls-x-lipa-presents-digital-rights-ip-fights/
LOCATION:333-202
CATEGORIES:Students
END:VEVENT
BEGIN:VEVENT
DTSTART;TZID=America/Los_Angeles:20250410T123000
DTEND;TZID=America/Los_Angeles:20250410T133000
DTSTAMP:20260422T181543
CREATED:20250325T200649Z
LAST-MODIFIED:20250325T200649Z
UID:10006305-1744288200-1744291800@www.uclawsf.edu
SUMMARY:SFPUC Solar Array Presentation
DESCRIPTION:San Francisco Public Utilities Commission (SFPUC) is presenting to the Environmental Law Association and energy law students about its Solar Array operations.
URL:https://www.uclawsf.edu/event/sfpuc-solar-array-presentation/
LOCATION:333-101\, 333 Golden Gate\, San Francisco\, CA\, United States
CATEGORIES:Students
GEO:37.7813548;-122.4161985
X-APPLE-STRUCTURED-LOCATION;VALUE=URI;X-ADDRESS=333-101 333 Golden Gate San Francisco CA United States;X-APPLE-RADIUS=500;X-TITLE=333 Golden Gate:geo:-122.4161985,37.7813548
END:VEVENT
BEGIN:VEVENT
DTSTART;TZID=America/Los_Angeles:20250410T173000
DTEND;TZID=America/Los_Angeles:20250410T193000
DTSTAMP:20260422T181543
CREATED:20250213T184905Z
LAST-MODIFIED:20250213T184905Z
UID:10006242-1744306200-1744313400@www.uclawsf.edu
SUMMARY:Local Chapter Happy Hour
DESCRIPTION:Happy hour for networking with attorney members of the ACS Bay Area chapter.
URL:https://www.uclawsf.edu/event/local-chapter-happy-hour/
LOCATION:333 Skydeck
CATEGORIES:Students
END:VEVENT
BEGIN:VEVENT
DTSTART;TZID=America/Los_Angeles:20250410T173000
DTEND;TZID=America/Los_Angeles:20250410T193000
DTSTAMP:20260422T181543
CREATED:20250421T184102Z
LAST-MODIFIED:20250421T184102Z
UID:10006318-1744306200-1744313400@www.uclawsf.edu
SUMMARY:Local Chapter Happy Hour
DESCRIPTION:Happy hour for networking with attorney members of the ACS Bay Area chapter.
URL:https://www.uclawsf.edu/event/local-chapter-happy-hour-2/
LOCATION:333-501 and SkyDeck
CATEGORIES:Students
END:VEVENT
BEGIN:VEVENT
DTSTART;TZID=America/Los_Angeles:20250411T173000
DTEND;TZID=America/Los_Angeles:20250411T203000
DTSTAMP:20260422T181543
CREATED:20250205T173220Z
LAST-MODIFIED:20250421T183835Z
UID:10006134-1744392600-1744403400@www.uclawsf.edu
SUMMARY:LLSA Alumni Dinner
DESCRIPTION:The Latinx Law Student Association (formerly La Raza) at UC Law San Francisco (formerly UC Hastings) is excited to hold the annual LLSA Alumni Reception to reconnect with alumni and to thank them for their ongoing support. We will be holding an awards ceremony for alumni nominees\, faculty nominees\, and the Jeanette Acosta Scholarship recipient. We will serve drinks and food for everyone to enjoy.
URL:https://www.uclawsf.edu/event/llsa-alumni-dinner/
LOCATION:333 Skydeck
CATEGORIES:Students
END:VEVENT
BEGIN:VEVENT
DTSTART;TZID=America/Los_Angeles:20250411T180000
DTEND;TZID=America/Los_Angeles:20250411T200000
DTSTAMP:20260422T181543
CREATED:20250319T210214Z
LAST-MODIFIED:20250319T210214Z
UID:10006281-1744394400-1744401600@www.uclawsf.edu
SUMMARY:Prayer and Praise Night
DESCRIPTION:A nighttime prayer and praise night before the end of the semester.
URL:https://www.uclawsf.edu/event/prayer-and-praise-night/
LOCATION:333-203\, San Francisco\, CA\, United States
CATEGORIES:Students
END:VEVENT
BEGIN:VEVENT
DTSTART;TZID=America/Los_Angeles:20250414T083000
DTEND;TZID=America/Los_Angeles:20250414T093000
DTSTAMP:20260422T181543
CREATED:20250207T003436Z
LAST-MODIFIED:20250207T003436Z
UID:10006227-1744619400-1744623000@www.uclawsf.edu
SUMMARY:Donuts in Dobbs
DESCRIPTION:Please join UCLAS in the Dobbs Atrium for Donuts
URL:https://www.uclawsf.edu/event/donuts-in-dobbs/2025-04-14/
LOCATION:Dobbs Atrium
CATEGORIES:Students
ORGANIZER;CN="UCLAS":MAILTO:pres@uclawsf.edu
END:VEVENT
BEGIN:VEVENT
DTSTART;TZID=America/Los_Angeles:20250415T123000
DTEND;TZID=America/Los_Angeles:20250415T133000
DTSTAMP:20260422T181543
CREATED:20250319T230250Z
LAST-MODIFIED:20250514T212732Z
UID:10006298-1744720200-1744723800@www.uclawsf.edu
SUMMARY:Enviro Graduation Event
DESCRIPTION:Social event celebrating the graduating 3Ls in environmental law and delivering them cords for graduation
URL:https://www.uclawsf.edu/event/enviro-graduation-event/
LOCATION:200 ARC\, Alumni Reception Center\, 200 McAllister Street\, San Francisco\, CA\, 94102\, United States
CATEGORIES:Students
END:VEVENT
BEGIN:VEVENT
DTSTART;TZID=America/Los_Angeles:20250415T160000
DTEND;TZID=America/Los_Angeles:20250415T173000
DTSTAMP:20260422T181543
CREATED:20250421T184205Z
LAST-MODIFIED:20250514T212653Z
UID:10006319-1744732800-1744738200@www.uclawsf.edu
SUMMARY:Enviro Graduation Event
DESCRIPTION:Social event celebrating the graduating 3Ls in environmental law and delivering them cords for graduation.
URL:https://www.uclawsf.edu/event/enviro-graduation-event-2/
LOCATION:CA
END:VEVENT
BEGIN:VEVENT
DTSTART;TZID=America/Los_Angeles:20250415T173000
DTEND;TZID=America/Los_Angeles:20250415T190000
DTSTAMP:20260422T181543
CREATED:20250304T180719Z
LAST-MODIFIED:20250304T180719Z
UID:10006265-1744738200-1744743600@www.uclawsf.edu
SUMMARY:End-of-Semester Bay Area FBA Mixer
DESCRIPTION:End-of-semester Bay Area FBA Mixer (Cal\, GGU\, USF Chapters). Goal is to foster relationships between neighboring FBA chapters to increase attendance at events in Spring\, and to celebrate the end of the semester.
URL:https://www.uclawsf.edu/event/end-of-semester-bay-area-fba-mixer/
LOCATION:200 ARC\, Alumni Reception Center\, 200 McAllister Street\, San Francisco\, CA\, 94102\, United States
CATEGORIES:Students
END:VEVENT
BEGIN:VEVENT
DTSTART;TZID=America/Los_Angeles:20250416T123000
DTEND;TZID=America/Los_Angeles:20250416T133000
DTSTAMP:20260422T181543
CREATED:20250421T184416Z
LAST-MODIFIED:20250421T184416Z
UID:10006321-1744806600-1744810200@www.uclawsf.edu
SUMMARY:Spring Study Hall
DESCRIPTION:Catered study hall for students to provide a social environment to work\, unwind\, and generally destress before the upcoming stretch of finals. Also includes a small presentation by the Bloomberg law representative for UC Law SF\, about their services on campus.
URL:https://www.uclawsf.edu/event/spring-study-hall/
LOCATION:333-202
CATEGORIES:Students
END:VEVENT
END:VCALENDAR