BEGIN:VCALENDAR
VERSION:2.0
PRODID:-//UC Law San Francisco (Formerly UC Hastings) - ECPv6.3.2//NONSGML v1.0//EN
CALSCALE:GREGORIAN
METHOD:PUBLISH
X-WR-CALNAME:UC Law San Francisco (Formerly UC Hastings)
X-ORIGINAL-URL:https://www.uclawsf.edu
X-WR-CALDESC:Events for UC Law San Francisco (Formerly UC Hastings)
REFRESH-INTERVAL;VALUE=DURATION:PT1H
X-Robots-Tag:noindex
X-PUBLISHED-TTL:PT1H
BEGIN:VTIMEZONE
TZID:America/Los_Angeles
BEGIN:DAYLIGHT
TZOFFSETFROM:-0800
TZOFFSETTO:-0700
TZNAME:PDT
DTSTART:20250309T100000
END:DAYLIGHT
BEGIN:STANDARD
TZOFFSETFROM:-0700
TZOFFSETTO:-0800
TZNAME:PST
DTSTART:20251102T090000
END:STANDARD
END:VTIMEZONE
BEGIN:VEVENT
DTSTART;TZID=America/Los_Angeles:20250205T123000
DTEND;TZID=America/Los_Angeles:20250212T133000
DTSTAMP:20260422T162859
CREATED:20250205T174108Z
LAST-MODIFIED:20250205T174108Z
UID:10006141-1738758600-1739367000@www.uclawsf.edu
SUMMARY:SLS GBM
DESCRIPTION:General Body Meeting for the Second semester.
URL:https://www.uclawsf.edu/event/sls-gbm/
LOCATION:200-122\, 200 McAllister\, San Francisco\, CA\, 94102
CATEGORIES:Students
END:VEVENT
BEGIN:VEVENT
DTSTART;TZID=America/Los_Angeles:20250212T123000
DTEND;TZID=America/Los_Angeles:20250212T133000
DTSTAMP:20260422T162859
CREATED:20250125T010651Z
LAST-MODIFIED:20250125T010651Z
UID:10006104-1739363400-1739367000@www.uclawsf.edu
SUMMARY:UCLAS General Council Meeting
DESCRIPTION:UC Law Associated Students biweekly General Council meeting\, open to all students.
URL:https://www.uclawsf.edu/event/uclas-general-council-meeting-3/
LOCATION:333-101\, 333 Golden Gate\, San Francisco\, CA\, United States
CATEGORIES:Students
ORGANIZER;CN="UCLAS":MAILTO:pres@uclawsf.edu
GEO:37.7813548;-122.4161985
X-APPLE-STRUCTURED-LOCATION;VALUE=URI;X-ADDRESS=333-101 333 Golden Gate San Francisco CA United States;X-APPLE-RADIUS=500;X-TITLE=333 Golden Gate:geo:-122.4161985,37.7813548
END:VEVENT
BEGIN:VEVENT
DTSTART;TZID=America/Los_Angeles:20250212T123000
DTEND;TZID=America/Los_Angeles:20250212T133000
DTSTAMP:20260422T162859
CREATED:20250206T152311Z
LAST-MODIFIED:20250206T152311Z
UID:10006155-1739363400-1739367000@www.uclawsf.edu
SUMMARY:VGLS Valentine's Day Love Potions Event
DESCRIPTION:A fun lunchtime activity where students can make their own potions\, with customizable flavors\, colors\, and labels.
URL:https://www.uclawsf.edu/event/vgls-valentines-day-love-potions-event/
LOCATION:333-LL04
CATEGORIES:Students
ORGANIZER;CN="Video Game Law Society (HVGLS)":MAILTO:hvgls@uclawsf.edu
END:VEVENT
BEGIN:VEVENT
DTSTART;TZID=America/Los_Angeles:20250212T123000
DTEND;TZID=America/Los_Angeles:20250212T133000
DTSTAMP:20260422T162859
CREATED:20250207T003927Z
LAST-MODIFIED:20250207T003927Z
UID:10006229-1739363400-1739367000@www.uclawsf.edu
SUMMARY:General Body Meeting #1 Spring 2025
DESCRIPTION:First general body meeting of the Spring 2025 semester.
URL:https://www.uclawsf.edu/event/general-body-meeting-1-spring-2025/
LOCATION:200-123
CATEGORIES:Students
END:VEVENT
BEGIN:VEVENT
DTSTART;TZID=America/Los_Angeles:20250212T183000
DTEND;TZID=America/Los_Angeles:20250212T203000
DTSTAMP:20260422T162859
CREATED:20250205T174500Z
LAST-MODIFIED:20250205T174500Z
UID:10006144-1739385000-1739392200@www.uclawsf.edu
SUMMARY:ILSA Speed Networking
DESCRIPTION:ILSA speed networking event with Iranian-American attorneys.
URL:https://www.uclawsf.edu/event/ilsa-speed-networking/
LOCATION:200 ARC\, Alumni Reception Center\, 200 McAllister Street\, San Francisco\, CA\, 94102\, United States
CATEGORIES:Students
END:VEVENT
END:VCALENDAR