BEGIN:VCALENDAR
VERSION:2.0
PRODID:-//UC Law San Francisco (Formerly UC Hastings) - ECPv6.3.2//NONSGML v1.0//EN
CALSCALE:GREGORIAN
METHOD:PUBLISH
X-ORIGINAL-URL:https://www.uclawsf.edu
X-WR-CALDESC:Events for UC Law San Francisco (Formerly UC Hastings)
REFRESH-INTERVAL;VALUE=DURATION:PT1H
X-Robots-Tag:noindex
X-PUBLISHED-TTL:PT1H
BEGIN:VTIMEZONE
TZID:America/Los_Angeles
BEGIN:DAYLIGHT
TZOFFSETFROM:-0800
TZOFFSETTO:-0700
TZNAME:PDT
DTSTART:20250309T100000
END:DAYLIGHT
BEGIN:STANDARD
TZOFFSETFROM:-0700
TZOFFSETTO:-0800
TZNAME:PST
DTSTART:20251102T090000
END:STANDARD
END:VTIMEZONE
BEGIN:VEVENT
DTSTART;TZID=America/Los_Angeles:20250220T083000
DTEND;TZID=America/Los_Angeles:20250220T170000
DTSTAMP:20260422T181805
CREATED:20250123T225634Z
LAST-MODIFIED:20250212T204458Z
UID:10006073-1740040200-1740070800@www.uclawsf.edu
SUMMARY:Chronically Online: Social Media Content Moderation's Struggle with the First Amendment
DESCRIPTION:Annual UCLJ symposium in tandem with the 6th Issue of the 76th edition. Focusing on content moderation and First Amendment issues. \nRegister for the Event
URL:https://www.uclawsf.edu/event/chronically-online-social-media-content-moderations-struggle-with-the-first-amendment/
LOCATION:198 Auditorium
CATEGORIES:Students
END:VEVENT
BEGIN:VEVENT
DTSTART;TZID=America/Los_Angeles:20250220T120000
DTEND;TZID=America/Los_Angeles:20250220T133000
DTSTAMP:20260422T181805
CREATED:20250213T183831Z
LAST-MODIFIED:20250213T183831Z
UID:10006235-1740052800-1740058200@www.uclawsf.edu
SUMMARY:Trial Lawyers Association First General Body Meeting
DESCRIPTION:Join the Trial Lawyers Association for our first general body meeting of the semester! We’ll be gathering for a Zoom watch event featuring a panel discussion hosted by the Asian American Criminal Trial Lawyers Association (AACTLA) on how to land a graduate law clerkship at a public defender’s office. Panelists include speakers from the Alameda\, Contra Costa\, San Francisco\, and Santa Clara County Public Defender Offices\, offering invaluable insight for 1Ls\, 2Ls\, and 3Ls interested in public defense. Come enjoy free food\, meet fellow students interested in trial advocacy\, and learn about upcoming opportunities with the Trial Lawyers Association. Whether you’re pursuing a career in public defense or just want to connect with like-minded peers\, this is a great chance to get involved!
URL:https://www.uclawsf.edu/event/trial-lawyers-association-first-general-body-meeting/
LOCATION:333 Skydeck
CATEGORIES:Students
END:VEVENT
BEGIN:VEVENT
DTSTART;TZID=America/Los_Angeles:20250220T120000
DTEND;TZID=America/Los_Angeles:20250220T133000
DTSTAMP:20260422T181805
CREATED:20250224T184028Z
LAST-MODIFIED:20250224T184028Z
UID:10006258-1740052800-1740058200@www.uclawsf.edu
SUMMARY:Trial Lawyers Association First General Body Meeting
DESCRIPTION:Join the Trial Lawyers Association for our first general body meeting of the semester! We’ll be gathering for a Zoom watch event featuring a panel discussion hosted by the Asian American Criminal Trial Lawyers Association (AACTLA) on how to land a graduate law clerkship at a public defender’s office. Panelists include speakers from the Alameda\, Contra Costa\, San Francisco\, and Santa Clara County Public Defender Offices\, offering invaluable insight for 1Ls\, 2Ls\, and 3Ls interested in public defense. Come enjoy free food\, meet fellow students interested in trial advocacy\, and learn about upcoming opportunities with the Trial Lawyers Association. Whether you’re pursuing a career in public defense or just want to connect with like-minded peers\, this is a great chance to get involved!  \nDate: Thursday\, February 20\, 2025  \nTime: 12:00 PM – 1:30 PM  \nLocation: Skydeck  \nFree Food Provided RSVP is encouraged but not required.  \nSee you there!
URL:https://www.uclawsf.edu/event/trial-lawyers-association-first-general-body-meeting-2/
LOCATION:333 Skydeck
CATEGORIES:Students
END:VEVENT
BEGIN:VEVENT
DTSTART;TZID=America/Los_Angeles:20250220T153000
DTEND;TZID=America/Los_Angeles:20250220T190000
DTSTAMP:20260422T181805
CREATED:20250207T003132Z
LAST-MODIFIED:20250207T003132Z
UID:10006220-1740065400-1740078000@www.uclawsf.edu
SUMMARY:Sharks on the Quad
DESCRIPTION:Please join UCLAS for Sharks on the Quad!
URL:https://www.uclawsf.edu/event/sharks-on-the-quad-5/2025-02-20/
LOCATION:333 Quad\, 333 Golden Gate\, San Francisco\, CA\, 94102
CATEGORIES:Students,UC LAW SF Community
ORGANIZER;CN="UCLAS":MAILTO:pres@uclawsf.edu
END:VEVENT
BEGIN:VEVENT
DTSTART;TZID=America/Los_Angeles:20250220T170000
DTEND;TZID=America/Los_Angeles:20250220T190000
DTSTAMP:20260422T181805
CREATED:20240911T170947Z
LAST-MODIFIED:20250124T193611Z
UID:10005871-1740070800-1740078000@www.uclawsf.edu
SUMMARY:UC Law Business Journal Alumni Reunion
DESCRIPTION:UCLBJ reunion event with past and current UC Law Business Journal members.
URL:https://www.uclawsf.edu/event/uc-law-business-journal-alumni-reunion/
LOCATION:333 Skydeck
CATEGORIES:Students
END:VEVENT
END:VCALENDAR