BEGIN:VCALENDAR
VERSION:2.0
PRODID:-//UC Law San Francisco (Formerly UC Hastings) - ECPv6.3.2//NONSGML v1.0//EN
CALSCALE:GREGORIAN
METHOD:PUBLISH
X-WR-CALNAME:UC Law San Francisco (Formerly UC Hastings)
X-ORIGINAL-URL:https://www.uclawsf.edu
X-WR-CALDESC:Events for UC Law San Francisco (Formerly UC Hastings)
REFRESH-INTERVAL;VALUE=DURATION:PT1H
X-Robots-Tag:noindex
X-PUBLISHED-TTL:PT1H
BEGIN:VTIMEZONE
TZID:America/Los_Angeles
BEGIN:DAYLIGHT
TZOFFSETFROM:-0800
TZOFFSETTO:-0700
TZNAME:PDT
DTSTART:20250309T100000
END:DAYLIGHT
BEGIN:STANDARD
TZOFFSETFROM:-0700
TZOFFSETTO:-0800
TZNAME:PST
DTSTART:20251102T090000
END:STANDARD
END:VTIMEZONE
BEGIN:VEVENT
DTSTART;TZID=America/Los_Angeles:20250225T123000
DTEND;TZID=America/Los_Angeles:20250225T133000
DTSTAMP:20260422T162900
CREATED:20250206T234102Z
LAST-MODIFIED:20250206T234102Z
UID:10006158-1740486600-1740490200@www.uclawsf.edu
SUMMARY:UC Law Christians Weekly Meeting
DESCRIPTION:
URL:https://www.uclawsf.edu/event/uc-law-christians-weekly-meeting/2025-02-25/
LOCATION:198-205
CATEGORIES:Students
END:VEVENT
BEGIN:VEVENT
DTSTART;TZID=America/Los_Angeles:20250225T123000
DTEND;TZID=America/Los_Angeles:20250225T133000
DTSTAMP:20260422T162900
CREATED:20250218T181247Z
LAST-MODIFIED:20250218T181247Z
UID:10006250-1740486600-1740490200@www.uclawsf.edu
SUMMARY:Law Empowerment and Access Project General Body Meeting
DESCRIPTION:LEAP hopes you can join us for our Spring GBM!
URL:https://www.uclawsf.edu/event/law-empowerment-and-access-project-general-body-meeting/
LOCATION:333-203\, San Francisco\, CA\, United States
CATEGORIES:Students
END:VEVENT
BEGIN:VEVENT
DTSTART;TZID=America/Los_Angeles:20250225T160000
DTEND;TZID=America/Los_Angeles:20250225T180000
DTSTAMP:20260422T162900
CREATED:20250213T184505Z
LAST-MODIFIED:20250213T184505Z
UID:10006239-1740499200-1740506400@www.uclawsf.edu
SUMMARY:SDR Community Discussion
DESCRIPTION:SDR will be hosting a community discussion regarding student health.
URL:https://www.uclawsf.edu/event/sdr-community-discussion/
LOCATION:Center for Social Justice (200-105)\, 200 McAllister St.\, San Francisco\, CA\, 94102\, United States
CATEGORIES:Students
END:VEVENT
END:VCALENDAR