BEGIN:VCALENDAR
VERSION:2.0
PRODID:-//UC Law San Francisco (Formerly UC Hastings) - ECPv6.3.2//NONSGML v1.0//EN
CALSCALE:GREGORIAN
METHOD:PUBLISH
X-ORIGINAL-URL:https://www.uclawsf.edu
X-WR-CALDESC:Events for UC Law San Francisco (Formerly UC Hastings)
REFRESH-INTERVAL;VALUE=DURATION:PT1H
X-Robots-Tag:noindex
X-PUBLISHED-TTL:PT1H
BEGIN:VTIMEZONE
TZID:America/Los_Angeles
BEGIN:DAYLIGHT
TZOFFSETFROM:-0800
TZOFFSETTO:-0700
TZNAME:PDT
DTSTART:20250309T100000
END:DAYLIGHT
BEGIN:STANDARD
TZOFFSETFROM:-0700
TZOFFSETTO:-0800
TZNAME:PST
DTSTART:20251102T090000
END:STANDARD
END:VTIMEZONE
BEGIN:VEVENT
DTSTART;TZID=America/Los_Angeles:20250313T123000
DTEND;TZID=America/Los_Angeles:20250313T133000
DTSTAMP:20260422T181836
CREATED:20250213T184338Z
LAST-MODIFIED:20250304T184546Z
UID:10006238-1741869000-1741872600@www.uclawsf.edu
SUMMARY:Immigration in the New Administration
DESCRIPTION:
URL:https://www.uclawsf.edu/event/immigration-in-the-new-administration/
LOCATION:200-122\, 200 McAllister\, San Francisco\, CA\, 94102
CATEGORIES:Students
END:VEVENT
BEGIN:VEVENT
DTSTART;TZID=America/Los_Angeles:20250313T123000
DTEND;TZID=America/Los_Angeles:20250313T133000
DTSTAMP:20260422T181836
CREATED:20250319T224548Z
LAST-MODIFIED:20250319T224548Z
UID:10006285-1741869000-1741872600@www.uclawsf.edu
SUMMARY:NBA General Counsel Q&A
DESCRIPTION:A time for students to meet with an NBA general counsel.
URL:https://www.uclawsf.edu/event/nba-general-counsel-qa/
LOCATION:333-101\, 333 Golden Gate\, San Francisco\, CA\, United States
CATEGORIES:Students
GEO:37.7813548;-122.4161985
X-APPLE-STRUCTURED-LOCATION;VALUE=URI;X-ADDRESS=333-101 333 Golden Gate San Francisco CA United States;X-APPLE-RADIUS=500;X-TITLE=333 Golden Gate:geo:-122.4161985,37.7813548
END:VEVENT
END:VCALENDAR