BEGIN:VCALENDAR
VERSION:2.0
PRODID:-//UC Law San Francisco (Formerly UC Hastings) - ECPv6.3.2//NONSGML v1.0//EN
CALSCALE:GREGORIAN
METHOD:PUBLISH
X-ORIGINAL-URL:https://www.uclawsf.edu
X-WR-CALDESC:Events for UC Law San Francisco (Formerly UC Hastings)
REFRESH-INTERVAL;VALUE=DURATION:PT1H
X-Robots-Tag:noindex
X-PUBLISHED-TTL:PT1H
BEGIN:VTIMEZONE
TZID:America/Los_Angeles
BEGIN:DAYLIGHT
TZOFFSETFROM:-0800
TZOFFSETTO:-0700
TZNAME:PDT
DTSTART:20250309T100000
END:DAYLIGHT
BEGIN:STANDARD
TZOFFSETFROM:-0700
TZOFFSETTO:-0800
TZNAME:PST
DTSTART:20251102T090000
END:STANDARD
END:VTIMEZONE
BEGIN:VEVENT
DTSTART;TZID=America/Los_Angeles:20250317T120000
DTEND;TZID=America/Los_Angeles:20250317T130000
DTSTAMP:20260422T181805
CREATED:20250304T180324Z
LAST-MODIFIED:20250304T180324Z
UID:10006263-1742212800-1742216400@www.uclawsf.edu
SUMMARY:Federal Clerkship Panel
DESCRIPTION:Current and past federal clerks and Professor and Faculty Supervisor Scott Dodson are going to answer questions about their time clerking.
URL:https://www.uclawsf.edu/event/federal-clerkship-panel/
LOCATION:200-122\, 200 McAllister\, San Francisco\, CA\, 94102
CATEGORIES:Students
END:VEVENT
BEGIN:VEVENT
DTSTART;TZID=America/Los_Angeles:20250317T123000
DTEND;TZID=America/Los_Angeles:20250317T133000
DTSTAMP:20260422T181805
CREATED:20250319T225318Z
LAST-MODIFIED:20250319T225318Z
UID:10006291-1742214600-1742218200@www.uclawsf.edu
SUMMARY:How-To Start Your Own Indigent Defense Practice
DESCRIPTION:NLG will host Brian McComas\, a local alternative defender\, for a presentation on how to start your own indigent defense practice and assist those needing post-conviction relief.
URL:https://www.uclawsf.edu/event/how-to-start-your-own-indigent-defense-practice/
LOCATION:333-202
CATEGORIES:Students
END:VEVENT
END:VCALENDAR