BEGIN:VCALENDAR
VERSION:2.0
PRODID:-//UC Law San Francisco (Formerly UC Hastings) - ECPv6.3.2//NONSGML v1.0//EN
CALSCALE:GREGORIAN
METHOD:PUBLISH
X-WR-CALNAME:UC Law San Francisco (Formerly UC Hastings)
X-ORIGINAL-URL:https://www.uclawsf.edu
X-WR-CALDESC:Events for UC Law San Francisco (Formerly UC Hastings)
REFRESH-INTERVAL;VALUE=DURATION:PT1H
X-Robots-Tag:noindex
X-PUBLISHED-TTL:PT1H
BEGIN:VTIMEZONE
TZID:America/Los_Angeles
BEGIN:DAYLIGHT
TZOFFSETFROM:-0800
TZOFFSETTO:-0700
TZNAME:PDT
DTSTART:20250309T100000
END:DAYLIGHT
BEGIN:STANDARD
TZOFFSETFROM:-0700
TZOFFSETTO:-0800
TZNAME:PST
DTSTART:20251102T090000
END:STANDARD
END:VTIMEZONE
BEGIN:VEVENT
DTSTART;TZID=America/Los_Angeles:20250319T123000
DTEND;TZID=America/Los_Angeles:20250319T133000
DTSTAMP:20260422T181616
CREATED:20250319T225517Z
LAST-MODIFIED:20250319T225517Z
UID:10006293-1742387400-1742391000@www.uclawsf.edu
SUMMARY:Entertainment Law Panel
DESCRIPTION:Hosting alumni\, Reina Shinohara\, for a panel about her career and entertainment law.
URL:https://www.uclawsf.edu/event/entertainment-law-panel/
LOCATION:200-123
CATEGORIES:Students
END:VEVENT
BEGIN:VEVENT
DTSTART;TZID=America/Los_Angeles:20250319T173000
DTEND;TZID=America/Los_Angeles:20250319T203000
DTSTAMP:20260422T181616
CREATED:20250214T210949Z
LAST-MODIFIED:20250214T210949Z
UID:10006247-1742405400-1742416200@www.uclawsf.edu
SUMMARY:Big Law Mixer
DESCRIPTION:
URL:https://www.uclawsf.edu/event/big-law-mixer/
LOCATION:333 Skydeck
CATEGORIES:Students
END:VEVENT
END:VCALENDAR