BEGIN:VCALENDAR
VERSION:2.0
PRODID:-//UC Law San Francisco (Formerly UC Hastings) - ECPv6.3.2//NONSGML v1.0//EN
CALSCALE:GREGORIAN
METHOD:PUBLISH
X-WR-CALNAME:UC Law San Francisco (Formerly UC Hastings)
X-ORIGINAL-URL:https://www.uclawsf.edu
X-WR-CALDESC:Events for UC Law San Francisco (Formerly UC Hastings)
REFRESH-INTERVAL;VALUE=DURATION:PT1H
X-Robots-Tag:noindex
X-PUBLISHED-TTL:PT1H
BEGIN:VTIMEZONE
TZID:America/Los_Angeles
BEGIN:DAYLIGHT
TZOFFSETFROM:-0800
TZOFFSETTO:-0700
TZNAME:PDT
DTSTART:20250309T100000
END:DAYLIGHT
BEGIN:STANDARD
TZOFFSETFROM:-0700
TZOFFSETTO:-0800
TZNAME:PST
DTSTART:20251102T090000
END:STANDARD
END:VTIMEZONE
BEGIN:VEVENT
DTSTART;TZID=America/Los_Angeles:20250320T123000
DTEND;TZID=America/Los_Angeles:20250320T133000
DTSTAMP:20260422T181617
CREATED:20250319T225839Z
LAST-MODIFIED:20250319T225839Z
UID:10006296-1742473800-1742477400@www.uclawsf.edu
SUMMARY:UCLAS Executive Board Elections Town Hall
DESCRIPTION:Candidates for the 25/26 Executive Board will speak about their plans and goals.
URL:https://www.uclawsf.edu/event/uclas-executive-board-elections-town-hall/
LOCATION:333-101\, 333 Golden Gate\, San Francisco\, CA\, United States
CATEGORIES:Students
GEO:37.7813548;-122.4161985
X-APPLE-STRUCTURED-LOCATION;VALUE=URI;X-ADDRESS=333-101 333 Golden Gate San Francisco CA United States;X-APPLE-RADIUS=500;X-TITLE=333 Golden Gate:geo:-122.4161985,37.7813548
END:VEVENT
BEGIN:VEVENT
DTSTART;TZID=America/Los_Angeles:20250320T123000
DTEND;TZID=America/Los_Angeles:20250320T133000
DTSTAMP:20260422T181617
CREATED:20250319T230822Z
LAST-MODIFIED:20250319T230822Z
UID:10006302-1742473800-1742477400@www.uclawsf.edu
SUMMARY:Law Empowerment and Access Project: "What is Crime?" Training
DESCRIPTION:
URL:https://www.uclawsf.edu/event/law-empowerment-and-access-project-what-is-crime-training/
LOCATION:333-204\, 333 Golden Gate\, San Francisco\, CA\, 94102
CATEGORIES:Students
END:VEVENT
BEGIN:VEVENT
DTSTART;TZID=America/Los_Angeles:20250320T153000
DTEND;TZID=America/Los_Angeles:20250320T190000
DTSTAMP:20260422T181617
CREATED:20250207T003132Z
LAST-MODIFIED:20250207T003132Z
UID:10006221-1742484600-1742497200@www.uclawsf.edu
SUMMARY:Sharks on the Quad
DESCRIPTION:Please join UCLAS for Sharks on the Quad!
URL:https://www.uclawsf.edu/event/sharks-on-the-quad-5/2025-03-20/
LOCATION:333 Quad\, 333 Golden Gate\, San Francisco\, CA\, 94102
CATEGORIES:Students,UC LAW SF Community
ORGANIZER;CN="UCLAS":MAILTO:pres@uclawsf.edu
END:VEVENT
BEGIN:VEVENT
DTSTART;TZID=America/Los_Angeles:20250320T163000
DTEND;TZID=America/Los_Angeles:20250320T210000
DTSTAMP:20260422T181617
CREATED:20250214T211207Z
LAST-MODIFIED:20250214T211207Z
UID:10006248-1742488200-1742504400@www.uclawsf.edu
SUMMARY:LLM Alumni & Student Mixer
DESCRIPTION:
URL:https://www.uclawsf.edu/event/llm-alumni-student-mixer-2/
LOCATION:333 Skydeck
CATEGORIES:Students
END:VEVENT
BEGIN:VEVENT
DTSTART;TZID=America/Los_Angeles:20250320T170000
DTEND;TZID=America/Los_Angeles:20250320T190000
DTSTAMP:20260422T181617
CREATED:20250205T175947Z
LAST-MODIFIED:20250205T180003Z
UID:10006152-1742490000-1742497200@www.uclawsf.edu
SUMMARY:BigLaw Mixer
DESCRIPTION:Networking mixer hosting multiple law firms.
URL:https://www.uclawsf.edu/event/biglaw-mixer/
LOCATION:333 Skydeck
CATEGORIES:Students
END:VEVENT
BEGIN:VEVENT
DTSTART;TZID=America/Los_Angeles:20250320T173000
DTEND;TZID=America/Los_Angeles:20250320T203000
DTSTAMP:20260422T181617
CREATED:20250124T202040Z
LAST-MODIFIED:20250124T202040Z
UID:10006087-1742491800-1742502600@www.uclawsf.edu
SUMMARY:Med x Law Community Iftaar
DESCRIPTION:Ramadan community iftaar with UC Law SF and UCSF Med/Dental/Pharmacy schools.
URL:https://www.uclawsf.edu/event/med-x-law-community-iftaar/
LOCATION:198 Auditorium
CATEGORIES:Students
END:VEVENT
BEGIN:VEVENT
DTSTART;TZID=America/Los_Angeles:20250320T173000
DTEND;TZID=America/Los_Angeles:20250320T213000
DTSTAMP:20260422T181617
CREATED:20250319T230711Z
LAST-MODIFIED:20250319T230711Z
UID:10006301-1742491800-1742506200@www.uclawsf.edu
SUMMARY:Med x Law Community Iftaar
DESCRIPTION:Ramadan community iftaar with UC Law SF and UCSF Med/Dental/Pharmacy schools.
URL:https://www.uclawsf.edu/event/med-x-law-community-iftaar-2/
LOCATION:198 Auditorium
CATEGORIES:Students
END:VEVENT
END:VCALENDAR