BEGIN:VCALENDAR
VERSION:2.0
PRODID:-//UC Law San Francisco (Formerly UC Hastings) - ECPv6.3.2//NONSGML v1.0//EN
CALSCALE:GREGORIAN
METHOD:PUBLISH
X-WR-CALNAME:UC Law San Francisco (Formerly UC Hastings)
X-ORIGINAL-URL:https://www.uclawsf.edu
X-WR-CALDESC:Events for UC Law San Francisco (Formerly UC Hastings)
REFRESH-INTERVAL;VALUE=DURATION:PT1H
X-Robots-Tag:noindex
X-PUBLISHED-TTL:PT1H
BEGIN:VTIMEZONE
TZID:America/Los_Angeles
BEGIN:DAYLIGHT
TZOFFSETFROM:-0800
TZOFFSETTO:-0700
TZNAME:PDT
DTSTART:20250309T100000
END:DAYLIGHT
BEGIN:STANDARD
TZOFFSETFROM:-0700
TZOFFSETTO:-0800
TZNAME:PST
DTSTART:20251102T090000
END:STANDARD
END:VTIMEZONE
BEGIN:VEVENT
DTSTART;TZID=America/Los_Angeles:20250324T083000
DTEND;TZID=America/Los_Angeles:20250324T093000
DTSTAMP:20260422T181616
CREATED:20250207T003436Z
LAST-MODIFIED:20250207T003436Z
UID:10006226-1742805000-1742808600@www.uclawsf.edu
SUMMARY:Donuts in Dobbs
DESCRIPTION:Please join UCLAS in the Dobbs Atrium for Donuts
URL:https://www.uclawsf.edu/event/donuts-in-dobbs/2025-03-24/
LOCATION:Dobbs Atrium
CATEGORIES:Students
ORGANIZER;CN="UCLAS":MAILTO:pres@uclawsf.edu
END:VEVENT
BEGIN:VEVENT
DTSTART;TZID=America/Los_Angeles:20250324T120000
DTEND;TZID=America/Los_Angeles:20250324T200000
DTSTAMP:20260422T181616
CREATED:20250319T230607Z
LAST-MODIFIED:20250319T230607Z
UID:10006300-1742817600-1742846400@www.uclawsf.edu
SUMMARY:STLJ x BLJ Symposium - Data Privacy in Digital Advertising
DESCRIPTION:
URL:https://www.uclawsf.edu/event/stlj-x-blj-symposium-data-privacy-in-digital-advertising/
LOCATION:CA
CATEGORIES:Students
END:VEVENT
BEGIN:VEVENT
DTSTART;TZID=America/Los_Angeles:20250324T123000
DTEND;TZID=America/Los_Angeles:20250324T133000
DTSTAMP:20260422T181616
CREATED:20250319T225101Z
LAST-MODIFIED:20250319T225101Z
UID:10006289-1742819400-1742823000@www.uclawsf.edu
SUMMARY:Indigenous Sovereignty and Dam Removal
DESCRIPTION:Join ELA\, NLG\, INALSA\, the Center for Social Justice\, and Craig Tucker from Suits and Signs for a discussion on the impact of dams on indigenous sovereignty\, the legal fight for water rights\, and the ongoing struggle to decolonize environmental law. Lunch will be provided.
URL:https://www.uclawsf.edu/event/indigenous-sovereignty-and-dam-removal/
LOCATION:200-123
CATEGORIES:Students
END:VEVENT
END:VCALENDAR