BEGIN:VCALENDAR
VERSION:2.0
PRODID:-//UC Law San Francisco (Formerly UC Hastings) - ECPv6.3.2//NONSGML v1.0//EN
CALSCALE:GREGORIAN
METHOD:PUBLISH
X-ORIGINAL-URL:https://www.uclawsf.edu
X-WR-CALDESC:Events for UC Law San Francisco (Formerly UC Hastings)
REFRESH-INTERVAL;VALUE=DURATION:PT1H
X-Robots-Tag:noindex
X-PUBLISHED-TTL:PT1H
BEGIN:VTIMEZONE
TZID:America/Los_Angeles
BEGIN:DAYLIGHT
TZOFFSETFROM:-0800
TZOFFSETTO:-0700
TZNAME:PDT
DTSTART:20250309T100000
END:DAYLIGHT
BEGIN:STANDARD
TZOFFSETFROM:-0700
TZOFFSETTO:-0800
TZNAME:PST
DTSTART:20251102T090000
END:STANDARD
END:VTIMEZONE
BEGIN:VEVENT
DTSTART;TZID=America/Los_Angeles:20250226T123000
DTEND;TZID=America/Los_Angeles:20250226T133000
DTSTAMP:20260421T083839
CREATED:20250124T194240Z
LAST-MODIFIED:20250124T194240Z
UID:10006078-1740573000-1740576600@www.uclawsf.edu
SUMMARY:Plaintiff-Side Employment Law
DESCRIPTION:The Employment and Labor Law Students Association and the Plaintiffs’ Law Association are co-hosting a career panel to provide advice and insight into plaintiff-side employment law. Panelists will include 3 to 4 attorneys who currently practice plaintiff-side employment law. Panelists will provide insight into their work and advice to starting a career in their practice.
URL:https://www.uclawsf.edu/event/plaintiff-side-employment-law/
LOCATION:200-122\, 200 McAllister\, San Francisco\, CA\, 94102
CATEGORIES:Students
ORGANIZER;CN="Employment and Labor Law Student Association (ELLSA)":MAILTO:ellsa@uclawsf.edu
END:VEVENT
END:VCALENDAR