BEGIN:VCALENDAR
VERSION:2.0
PRODID:-//UC Law San Francisco (Formerly UC Hastings) - ECPv6.3.2//NONSGML v1.0//EN
CALSCALE:GREGORIAN
METHOD:PUBLISH
X-ORIGINAL-URL:https://www.uclawsf.edu
X-WR-CALDESC:Events for UC Law San Francisco (Formerly UC Hastings)
REFRESH-INTERVAL;VALUE=DURATION:PT1H
X-Robots-Tag:noindex
X-PUBLISHED-TTL:PT1H
BEGIN:VTIMEZONE
TZID:America/Los_Angeles
BEGIN:DAYLIGHT
TZOFFSETFROM:-0800
TZOFFSETTO:-0700
TZNAME:PDT
DTSTART:20250309T100000
END:DAYLIGHT
BEGIN:STANDARD
TZOFFSETFROM:-0700
TZOFFSETTO:-0800
TZNAME:PST
DTSTART:20251102T090000
END:STANDARD
END:VTIMEZONE
BEGIN:VEVENT
DTSTART;TZID=America/Los_Angeles:20251021T123000
DTEND;TZID=America/Los_Angeles:20251021T133000
DTSTAMP:20260419T205635
CREATED:20251008T230857Z
LAST-MODIFIED:20251008T230857Z
UID:10006443-1761049800-1761053400@www.uclawsf.edu
SUMMARY:UCLJxJIOP Panel
DESCRIPTION:Hosting a panel aimed towards 1Ls about JIOP. The panel will comprise of local judges and students who have participated in the JIOP program.
URL:https://www.uclawsf.edu/event/ucljxjiop-panel/
LOCATION:333-101\, 333 Golden Gate\, San Francisco\, CA\, United States
CATEGORIES:Students
GEO:37.7813548;-122.4161985
X-APPLE-STRUCTURED-LOCATION;VALUE=URI;X-ADDRESS=333-101 333 Golden Gate San Francisco CA United States;X-APPLE-RADIUS=500;X-TITLE=333 Golden Gate:geo:-122.4161985,37.7813548
END:VEVENT
BEGIN:VEVENT
DTSTART;TZID=America/Los_Angeles:20250410T123000
DTEND;TZID=America/Los_Angeles:20250410T133000
DTSTAMP:20260419T205635
CREATED:20250325T200649Z
LAST-MODIFIED:20250325T200649Z
UID:10006305-1744288200-1744291800@www.uclawsf.edu
SUMMARY:SFPUC Solar Array Presentation
DESCRIPTION:San Francisco Public Utilities Commission (SFPUC) is presenting to the Environmental Law Association and energy law students about its Solar Array operations.
URL:https://www.uclawsf.edu/event/sfpuc-solar-array-presentation/
LOCATION:333-101\, 333 Golden Gate\, San Francisco\, CA\, United States
CATEGORIES:Students
GEO:37.7813548;-122.4161985
X-APPLE-STRUCTURED-LOCATION;VALUE=URI;X-ADDRESS=333-101 333 Golden Gate San Francisco CA United States;X-APPLE-RADIUS=500;X-TITLE=333 Golden Gate:geo:-122.4161985,37.7813548
END:VEVENT
BEGIN:VEVENT
DTSTART;TZID=America/Los_Angeles:20250405T100000
DTEND;TZID=America/Los_Angeles:20250405T170000
DTSTAMP:20260419T205635
CREATED:20250205T175128Z
LAST-MODIFIED:20250205T175128Z
UID:10006147-1743847200-1743872400@www.uclawsf.edu
SUMMARY:Earth Month Event with Pro Bono
DESCRIPTION:Inviting guest speakers to discuss the intersection of settler colonialism and the environment.
URL:https://www.uclawsf.edu/event/earth-month-event-with-pro-bono/
LOCATION:333-101\, 333 Golden Gate\, San Francisco\, CA\, United States
CATEGORIES:Students
GEO:37.7813548;-122.4161985
X-APPLE-STRUCTURED-LOCATION;VALUE=URI;X-ADDRESS=333-101 333 Golden Gate San Francisco CA United States;X-APPLE-RADIUS=500;X-TITLE=333 Golden Gate:geo:-122.4161985,37.7813548
END:VEVENT
BEGIN:VEVENT
DTSTART;TZID=America/Los_Angeles:20250402T120000
DTEND;TZID=America/Los_Angeles:20250402T133000
DTSTAMP:20260419T205635
CREATED:20250319T224951Z
LAST-MODIFIED:20250319T224951Z
UID:10006288-1743595200-1743600600@www.uclawsf.edu
SUMMARY:Narcan Overdose Training
DESCRIPTION:HLS and DPH will be hosting an overdose prevention and narcan training.
URL:https://www.uclawsf.edu/event/narcan-overdose-training/
LOCATION:333-101\, 333 Golden Gate\, San Francisco\, CA\, United States
CATEGORIES:Students
GEO:37.7813548;-122.4161985
X-APPLE-STRUCTURED-LOCATION;VALUE=URI;X-ADDRESS=333-101 333 Golden Gate San Francisco CA United States;X-APPLE-RADIUS=500;X-TITLE=333 Golden Gate:geo:-122.4161985,37.7813548
END:VEVENT
BEGIN:VEVENT
DTSTART;TZID=America/Los_Angeles:20250320T123000
DTEND;TZID=America/Los_Angeles:20250320T133000
DTSTAMP:20260419T205635
CREATED:20250319T225839Z
LAST-MODIFIED:20250319T225839Z
UID:10006296-1742473800-1742477400@www.uclawsf.edu
SUMMARY:UCLAS Executive Board Elections Town Hall
DESCRIPTION:Candidates for the 25/26 Executive Board will speak about their plans and goals.
URL:https://www.uclawsf.edu/event/uclas-executive-board-elections-town-hall/
LOCATION:333-101\, 333 Golden Gate\, San Francisco\, CA\, United States
CATEGORIES:Students
GEO:37.7813548;-122.4161985
X-APPLE-STRUCTURED-LOCATION;VALUE=URI;X-ADDRESS=333-101 333 Golden Gate San Francisco CA United States;X-APPLE-RADIUS=500;X-TITLE=333 Golden Gate:geo:-122.4161985,37.7813548
END:VEVENT
BEGIN:VEVENT
DTSTART;TZID=America/Los_Angeles:20250313T123000
DTEND;TZID=America/Los_Angeles:20250313T133000
DTSTAMP:20260419T205635
CREATED:20250319T224548Z
LAST-MODIFIED:20250319T224548Z
UID:10006285-1741869000-1741872600@www.uclawsf.edu
SUMMARY:NBA General Counsel Q&A
DESCRIPTION:A time for students to meet with an NBA general counsel.
URL:https://www.uclawsf.edu/event/nba-general-counsel-qa/
LOCATION:333-101\, 333 Golden Gate\, San Francisco\, CA\, United States
CATEGORIES:Students
GEO:37.7813548;-122.4161985
X-APPLE-STRUCTURED-LOCATION;VALUE=URI;X-ADDRESS=333-101 333 Golden Gate San Francisco CA United States;X-APPLE-RADIUS=500;X-TITLE=333 Golden Gate:geo:-122.4161985,37.7813548
END:VEVENT
BEGIN:VEVENT
DTSTART;TZID=America/Los_Angeles:20250212T123000
DTEND;TZID=America/Los_Angeles:20250212T133000
DTSTAMP:20260419T205635
CREATED:20250125T010651Z
LAST-MODIFIED:20250125T010651Z
UID:10006104-1739363400-1739367000@www.uclawsf.edu
SUMMARY:UCLAS General Council Meeting
DESCRIPTION:UC Law Associated Students biweekly General Council meeting\, open to all students.
URL:https://www.uclawsf.edu/event/uclas-general-council-meeting-3/
LOCATION:333-101\, 333 Golden Gate\, San Francisco\, CA\, United States
CATEGORIES:Students
ORGANIZER;CN="UCLAS":MAILTO:pres@uclawsf.edu
GEO:37.7813548;-122.4161985
X-APPLE-STRUCTURED-LOCATION;VALUE=URI;X-ADDRESS=333-101 333 Golden Gate San Francisco CA United States;X-APPLE-RADIUS=500;X-TITLE=333 Golden Gate:geo:-122.4161985,37.7813548
END:VEVENT
END:VCALENDAR