BEGIN:VCALENDAR
VERSION:2.0
PRODID:-//UC Law San Francisco (Formerly UC Hastings) - ECPv6.3.2//NONSGML v1.0//EN
CALSCALE:GREGORIAN
METHOD:PUBLISH
X-WR-CALNAME:UC Law San Francisco (Formerly UC Hastings)
X-ORIGINAL-URL:https://www.uclawsf.edu
X-WR-CALDESC:Events for UC Law San Francisco (Formerly UC Hastings)
REFRESH-INTERVAL;VALUE=DURATION:PT1H
X-Robots-Tag:noindex
X-PUBLISHED-TTL:PT1H
BEGIN:VTIMEZONE
TZID:America/Los_Angeles
BEGIN:DAYLIGHT
TZOFFSETFROM:-0800
TZOFFSETTO:-0700
TZNAME:PDT
DTSTART:20250309T100000
END:DAYLIGHT
BEGIN:STANDARD
TZOFFSETFROM:-0700
TZOFFSETTO:-0800
TZNAME:PST
DTSTART:20251102T090000
END:STANDARD
END:VTIMEZONE
BEGIN:VEVENT
DTSTART;TZID=America/Los_Angeles:20250213T123000
DTEND;TZID=America/Los_Angeles:20250213T133000
DTSTAMP:20260419T132642
CREATED:20250128T002236Z
LAST-MODIFIED:20250128T002236Z
UID:10006119-1739449800-1739453400@www.uclawsf.edu
SUMMARY:Boutique & Midsize Firm Week: Pioneering Practice Areas in Modern Law
DESCRIPTION:
URL:https://www.uclawsf.edu/event/boutique-midsize-firm-week-pioneering-practice/
LOCATION:333-201 and 333-202
CATEGORIES:Students
END:VEVENT
BEGIN:VEVENT
DTSTART;TZID=America/Los_Angeles:20250210T123000
DTEND;TZID=America/Los_Angeles:20250210T133000
DTSTAMP:20260419T132642
CREATED:20250128T001845Z
LAST-MODIFIED:20250128T001846Z
UID:10006115-1739190600-1739194200@www.uclawsf.edu
SUMMARY:Boutique & Midsize Firm Week: How to Find a Job You'll Really Like with Professor Shanin Specter
DESCRIPTION:
URL:https://www.uclawsf.edu/event/boutique-midsize-firm-week-how-to-find-a-job-youll-really-like-with-professor-shanin-specter/
LOCATION:333-201 and 333-202
CATEGORIES:Students
END:VEVENT
END:VCALENDAR