BEGIN:VCALENDAR
VERSION:2.0
PRODID:-//UC Law San Francisco (Formerly UC Hastings) - ECPv6.3.2//NONSGML v1.0//EN
CALSCALE:GREGORIAN
METHOD:PUBLISH
X-WR-CALNAME:UC Law San Francisco (Formerly UC Hastings)
X-ORIGINAL-URL:https://www.uclawsf.edu
X-WR-CALDESC:Events for UC Law San Francisco (Formerly UC Hastings)
REFRESH-INTERVAL;VALUE=DURATION:PT1H
X-Robots-Tag:noindex
X-PUBLISHED-TTL:PT1H
BEGIN:VTIMEZONE
TZID:America/Los_Angeles
BEGIN:DAYLIGHT
TZOFFSETFROM:-0800
TZOFFSETTO:-0700
TZNAME:PDT
DTSTART:20250309T100000
END:DAYLIGHT
BEGIN:STANDARD
TZOFFSETFROM:-0700
TZOFFSETTO:-0800
TZNAME:PST
DTSTART:20251102T090000
END:STANDARD
BEGIN:DAYLIGHT
TZOFFSETFROM:-0800
TZOFFSETTO:-0700
TZNAME:PDT
DTSTART:20260308T100000
END:DAYLIGHT
BEGIN:STANDARD
TZOFFSETFROM:-0700
TZOFFSETTO:-0800
TZNAME:PST
DTSTART:20261101T090000
END:STANDARD
END:VTIMEZONE
BEGIN:VEVENT
DTSTART;TZID=America/Los_Angeles:20260401T123000
DTEND;TZID=America/Los_Angeles:20260401T133000
DTSTAMP:20260419T231813
CREATED:20260318T215500Z
LAST-MODIFIED:20260330T191958Z
UID:10006544-1775046600-1775050200@www.uclawsf.edu
SUMMARY:CEALS Presents - Bumps on China's Belt and Road
DESCRIPTION:Featured Speaker: Professor John Ohnesorge\, University of Wisconsin-Madison Law School\nDate/Time: Wednesday\, April 1\, 2026\, 12:30-1:30 PM\nLocation (*ROOM CHANGED): Room 333-201 (333 Golden Gate Ave.\, UC Law SF in Room 201)\n\n\n  \n\nThe Belt and Road Initiative\, announced by Xi Jinping in 2013\, has provided the framing for a dramatic expansion of China’s reach into the global economy. Please join the Center for East Asian Legal Studies for a talk with Professor John Ohnesorge who will briefly describe the Initiative and debates surrounding it\, then focus on key current economic and geopolitical challenges to its continued expansion.\n  \nProfessor John Ohnesorge is Professor of Law\, Director of the East Asian Legal Studies Center\, and founder and director of the Compliance Initiative at the University of Wisconsin-Madison Law School. A native of Minneapolis\, Professor Ohnesorge received his B.A. from St. Olaf College (English and Psychology\, 1985)\, his J.D. from the University of Minnesota Law School (cum laude\, 1989)\, and his S.J.D. from Harvard Law School (2002). He spent several years in East Asia\, as a teacher and law student in Shanghai in the 1980s\, as a lawyer in private practice in Seoul in the 1990s\, and as a visiting scholar at Seoul National University. He spent 2023 as a Fulbright Distinguished Scholar at Yonsei University in Seoul.  His research interests include Administrative Law\, Politics and Compliance\, Law and Economic Development\, East Asian Legal System Development\, and International Economic Law. \n  \nA light lunch will be provided. \n  \nRSVP here
URL:https://www.uclawsf.edu/event/ceals-presents-bumps-on-chinas-belt-and-road/
LOCATION:333-201
CATEGORIES:Students,UC LAW SF Community,CEALS,Alumni,Featured,Staff,Faculty
END:VEVENT
BEGIN:VEVENT
DTSTART;TZID=America/Los_Angeles:20251021T123000
DTEND;TZID=America/Los_Angeles:20251021T133000
DTSTAMP:20260419T231813
CREATED:20251008T230735Z
LAST-MODIFIED:20251008T230735Z
UID:10006442-1761049800-1761053400@www.uclawsf.edu
SUMMARY:Career Panel
DESCRIPTION:Come lean about 2L summer jobs and careers from attorneys & upperclassmen!
URL:https://www.uclawsf.edu/event/career-panel/
LOCATION:333-201
CATEGORIES:Students
END:VEVENT
BEGIN:VEVENT
DTSTART;TZID=America/Los_Angeles:20251010T163000
DTEND;TZID=America/Los_Angeles:20251010T200000
DTSTAMP:20260419T231813
CREATED:20251008T225915Z
LAST-MODIFIED:20251008T225915Z
UID:10006435-1760113800-1760126400@www.uclawsf.edu
SUMMARY:WNBA Finals Watch Party
DESCRIPTION:A watch party to watch the WNBA Finals Game 4 with food and drinks provided with space to study for Midterms or take a break!
URL:https://www.uclawsf.edu/event/wnba-finals-watch-party/
LOCATION:333-201
CATEGORIES:Students
END:VEVENT
BEGIN:VEVENT
DTSTART;TZID=America/Los_Angeles:20250828T160000
DTEND;TZID=America/Los_Angeles:20250828T170000
DTSTAMP:20260419T231813
CREATED:20250814T235950Z
LAST-MODIFIED:20250814T235950Z
UID:10006350-1756396800-1756400400@www.uclawsf.edu
SUMMARY:Center on Tax Law Panel: "What Does the New Tax Law Mean for You? "
DESCRIPTION:
URL:https://www.uclawsf.edu/event/center-on-tax-law-panel-what-does-the-new-tax-law-mean-for-you/
LOCATION:333-201
CATEGORIES:Staff,Faculty,Students
ORGANIZER;CN="UC Law SF Center on Tax Law":MAILTO:tax@uclawsf.edu
END:VEVENT
BEGIN:VEVENT
DTSTART;TZID=America/Los_Angeles:20250409T123000
DTEND;TZID=America/Los_Angeles:20250409T133000
DTSTAMP:20260419T231813
CREATED:20250125T010839Z
LAST-MODIFIED:20250125T010839Z
UID:10006108-1744201800-1744205400@www.uclawsf.edu
SUMMARY:UCLAS General Council Meeting
DESCRIPTION:UC Law Associated Students biweekly General Council meeting\, open to all students.
URL:https://www.uclawsf.edu/event/uclas-general-council-meeting-12/
LOCATION:333-201
CATEGORIES:Students
ORGANIZER;CN="UCLAS":MAILTO:pres@uclawsf.edu
END:VEVENT
BEGIN:VEVENT
DTSTART;TZID=America/Los_Angeles:20250311T123000
DTEND;TZID=America/Los_Angeles:20250311T133000
DTSTAMP:20260419T231813
CREATED:20250304T180819Z
LAST-MODIFIED:20250304T180819Z
UID:10006266-1741696200-1741699800@www.uclawsf.edu
SUMMARY:Womens Law Society General Body Meeting
DESCRIPTION:
URL:https://www.uclawsf.edu/event/womens-law-society-general-body-meeting-3/
LOCATION:333-201
CATEGORIES:Students
END:VEVENT
BEGIN:VEVENT
DTSTART;TZID=America/Los_Angeles:20250226T123000
DTEND;TZID=America/Los_Angeles:20250226T133000
DTSTAMP:20260419T231813
CREATED:20250125T010719Z
LAST-MODIFIED:20250125T010719Z
UID:10006105-1740573000-1740576600@www.uclawsf.edu
SUMMARY:UCLAS General Council Meeting
DESCRIPTION:UC Law Associated Students biweekly General Council meeting\, open to all students.
URL:https://www.uclawsf.edu/event/uclas-general-council-meeting-4/
LOCATION:333-201
CATEGORIES:Students
ORGANIZER;CN="UCLAS":MAILTO:pres@uclawsf.edu
END:VEVENT
BEGIN:VEVENT
DTSTART;TZID=America/Los_Angeles:20250129T123000
DTEND;TZID=America/Los_Angeles:20250129T133000
DTSTAMP:20260419T231813
CREATED:20250125T010625Z
LAST-MODIFIED:20250125T010625Z
UID:10006103-1738153800-1738157400@www.uclawsf.edu
SUMMARY:UCLAS General Council Meeting
DESCRIPTION:UC Law Associated Students biweekly General Council meeting\, open to all students.
URL:https://www.uclawsf.edu/event/uclas-general-council-meeting-2/
LOCATION:333-201
CATEGORIES:Students
ORGANIZER;CN="UCLAS":MAILTO:pres@uclawsf.edu
END:VEVENT
BEGIN:VEVENT
DTSTART;TZID=America/Los_Angeles:20250115T123000
DTEND;TZID=America/Los_Angeles:20250115T133000
DTSTAMP:20260419T231813
CREATED:20250125T010556Z
LAST-MODIFIED:20250125T010556Z
UID:10006102-1736944200-1736947800@www.uclawsf.edu
SUMMARY:UCLAS General Council Meeting
DESCRIPTION:UC Law Associated Students biweekly General Council meeting\, open to all students.
URL:https://www.uclawsf.edu/event/uclas-general-council-meeting/
LOCATION:333-201
CATEGORIES:Students
ORGANIZER;CN="UCLAS":MAILTO:pres@uclawsf.edu
END:VEVENT
END:VCALENDAR