BEGIN:VCALENDAR
VERSION:2.0
PRODID:-//UC Law San Francisco (Formerly UC Hastings) - ECPv6.3.2//NONSGML v1.0//EN
CALSCALE:GREGORIAN
METHOD:PUBLISH
X-ORIGINAL-URL:https://www.uclawsf.edu
X-WR-CALDESC:Events for UC Law San Francisco (Formerly UC Hastings)
REFRESH-INTERVAL;VALUE=DURATION:PT1H
X-Robots-Tag:noindex
X-PUBLISHED-TTL:PT1H
BEGIN:VTIMEZONE
TZID:America/Los_Angeles
BEGIN:DAYLIGHT
TZOFFSETFROM:-0800
TZOFFSETTO:-0700
TZNAME:PDT
DTSTART:20250309T100000
END:DAYLIGHT
BEGIN:STANDARD
TZOFFSETFROM:-0700
TZOFFSETTO:-0800
TZNAME:PST
DTSTART:20251102T090000
END:STANDARD
END:VTIMEZONE
BEGIN:VEVENT
DTSTART;TZID=America/Los_Angeles:20251104T123000
DTEND;TZID=America/Los_Angeles:20251104T133000
DTSTAMP:20260420T000449
CREATED:20251030T210613Z
LAST-MODIFIED:20251030T210613Z
UID:10006469-1762259400-1762263000@www.uclawsf.edu
SUMMARY:Settler Colonialism Then and Now: History and Impact on the Ohlone in The Bay Area
DESCRIPTION:Interested in learning the history of the land you’re on? Please join INALSA and the Indigenous Law Center as we hot Dr. Jonathan Cordero to lead a teach-in about the original inhabitants and stewards of the Bay Area\, how settler colonialism shaped their lives and the legal system\, an Indigenous-led efforts against these injustices. Everyone is welcome to attend!
URL:https://www.uclawsf.edu/event/settler-colonialism-then-and-now-history-and-impact-on-the-ohlone-in-the-bay-area/
LOCATION:333-202
CATEGORIES:Students
END:VEVENT
BEGIN:VEVENT
DTSTART;TZID=America/Los_Angeles:20251029T123000
DTEND;TZID=America/Los_Angeles:20251029T133000
DTSTAMP:20260420T000449
CREATED:20251008T231715Z
LAST-MODIFIED:20251008T231715Z
UID:10006449-1761741000-1761744600@www.uclawsf.edu
SUMMARY:Academic Skills Workshop: How to Prepare for Finals
DESCRIPTION:APALSA is hosting an academic skills workshop to provide tips and tricks to prepare for finals. This includes outlining\, memorizing\, creating a study schedule\, and maintaining overall wellness during a stressful period.
URL:https://www.uclawsf.edu/event/academic-skills-workshop-how-to-prepare-for-finals/
LOCATION:333-202
CATEGORIES:Students
END:VEVENT
BEGIN:VEVENT
DTSTART;TZID=America/Los_Angeles:20251021T123000
DTEND;TZID=America/Los_Angeles:20251021T133000
DTSTAMP:20260420T000449
CREATED:20251008T230122Z
LAST-MODIFIED:20251008T230122Z
UID:10006437-1761049800-1761053400@www.uclawsf.edu
SUMMARY:BLSA x Morgan Lewis Meet and Greet Panel
DESCRIPTION:A meet and greet panel and networking opportunity with Morgan\, Lewis & Bockius LLP\, hosted by BLSA.
URL:https://www.uclawsf.edu/event/blsa-x-morgan-lewis-meet-and-greet-panel/
LOCATION:333-202
CATEGORIES:Students
END:VEVENT
BEGIN:VEVENT
DTSTART;TZID=America/Los_Angeles:20250416T123000
DTEND;TZID=America/Los_Angeles:20250416T133000
DTSTAMP:20260420T000449
CREATED:20250421T184416Z
LAST-MODIFIED:20250421T184416Z
UID:10006321-1744806600-1744810200@www.uclawsf.edu
SUMMARY:Spring Study Hall
DESCRIPTION:Catered study hall for students to provide a social environment to work\, unwind\, and generally destress before the upcoming stretch of finals. Also includes a small presentation by the Bloomberg law representative for UC Law SF\, about their services on campus.
URL:https://www.uclawsf.edu/event/spring-study-hall/
LOCATION:333-202
CATEGORIES:Students
END:VEVENT
BEGIN:VEVENT
DTSTART;TZID=America/Los_Angeles:20250409T123000
DTEND;TZID=America/Los_Angeles:20250409T133000
DTSTAMP:20260420T000449
CREATED:20250421T184816Z
LAST-MODIFIED:20250421T184816Z
UID:10006325-1744201800-1744205400@www.uclawsf.edu
SUMMARY:Electronic Frontier Foundation x TLS x LIPA Presents Digital Rights + IP Fights
DESCRIPTION:Join TLS and LIPA to learn about protecting our online civil liberties as well as other pro bono opportunities in tech!
URL:https://www.uclawsf.edu/event/electronic-frontier-foundation-x-tls-x-lipa-presents-digital-rights-ip-fights/
LOCATION:333-202
CATEGORIES:Students
END:VEVENT
BEGIN:VEVENT
DTSTART;TZID=America/Los_Angeles:20250402T123000
DTEND;TZID=America/Los_Angeles:20250402T133000
DTSTAMP:20260420T000449
CREATED:20250311T181336Z
LAST-MODIFIED:20250311T225309Z
UID:10006274-1743597000-1743600600@www.uclawsf.edu
SUMMARY:Japan’s 1919 Racial Equality Proposal for the League of Nations Covenant
DESCRIPTION:  \nCo-sponsored by the Center for East Asian Legal Studies and the Center for Racial and Economic Justice.  Hiroshi Fukurai\, Professor of Sociology and Legal Studies\, University of California\, Santa Cruz\, and former President of the Asian Law and Society Association\, will offer historical insights into Japan’s effort to outlaw racial inequality in international law at the 1919 Paris Peace Conference and examine the impact of this proposal on African American legal scholars and activists such as WEB Dubois\, William L. Patterson\, and Paul Robeson\, who submitted the petition We Charge Genocide to the United Nations in 1951\, and related historical links among Japanese\, American\, and Caribbean political activists. \n  \nHiroshi Fukurai is Professor of Sociology & Legal Studies at the University of California\, Santa Cruz & President of the Asian Law & Society Association (2018-2019).  Professor Fukurai specializes in lay adjudication\, Asian law and politics\, Original Nation Approaches to Inter-National Law (ONAIL)\, private international law\, and race and law. He is a co-founder of the Collaborative Research Network (CRN) “East Asian Law and Society” and the International Research Collaborative (IRC) “The State and the Corporation as Legal Fictions: Original Nation and Dissent” at the Law and Society Association (LSA).  His receht books include: People’s Prosecution Review Commissions & Japan’s Prosecution (2022); Original Nation Approaches to Inter-National Law: The Quest for the Rights of Indigenous Peoples and Nature in the Age of Anthropocene (2021); Civil Jury Trials will Democratize Japan (2020); East Asia’s Renewed Respect for the Rule of Law in the 21st Century (2015). \nLight lunch and refreshments to be served. \nRSVP here!
URL:https://www.uclawsf.edu/event/ceals-presents-japans-1919-racial-equality-proposal-for-the-league-of-nations-covenant/
LOCATION:333-202
CATEGORIES:Faculty,Students,Academic Calendar and Holidays,CEALS,CEALS News and Past Events
END:VEVENT
BEGIN:VEVENT
DTSTART;TZID=America/Los_Angeles:20250401T123000
DTEND;TZID=America/Los_Angeles:20250401T133000
DTSTAMP:20260420T000449
CREATED:20250124T193822Z
LAST-MODIFIED:20250124T193822Z
UID:10006076-1743510600-1743514200@www.uclawsf.edu
SUMMARY:Surviving 2L Panel
DESCRIPTION:The board will be giving tips and tricks to 1Ls to make the most out of their 2L year.
URL:https://www.uclawsf.edu/event/surviving-2l-panel/
LOCATION:333-202
CATEGORIES:Students
END:VEVENT
BEGIN:VEVENT
DTSTART;TZID=America/Los_Angeles:20250326T123000
DTEND;TZID=America/Los_Angeles:20250326T133000
DTSTAMP:20260420T000449
CREATED:20250125T010809Z
LAST-MODIFIED:20250125T010809Z
UID:10006107-1742992200-1742995800@www.uclawsf.edu
SUMMARY:UCLAS General Council Meeting
DESCRIPTION:UC Law Associated Students biweekly General Council meeting\, open to all students.
URL:https://www.uclawsf.edu/event/uclas-general-council-meeting-6/
LOCATION:333-202
CATEGORIES:Students
ORGANIZER;CN="UCLAS":MAILTO:pres@uclawsf.edu
END:VEVENT
BEGIN:VEVENT
DTSTART;TZID=America/Los_Angeles:20250318T123000
DTEND;TZID=America/Los_Angeles:20250318T133000
DTSTAMP:20260420T000449
CREATED:20250319T224852Z
LAST-MODIFIED:20250319T224852Z
UID:10006287-1742301000-1742304600@www.uclawsf.edu
SUMMARY:Spring General Body Meeting
DESCRIPTION:Come join WLS and learn what the rest of the semester has in store!
URL:https://www.uclawsf.edu/event/spring-general-body-meeting/
LOCATION:333-202
CATEGORIES:Students
END:VEVENT
BEGIN:VEVENT
DTSTART;TZID=America/Los_Angeles:20250317T123000
DTEND;TZID=America/Los_Angeles:20250317T133000
DTSTAMP:20260420T000449
CREATED:20250319T225318Z
LAST-MODIFIED:20250319T225318Z
UID:10006291-1742214600-1742218200@www.uclawsf.edu
SUMMARY:How-To Start Your Own Indigent Defense Practice
DESCRIPTION:NLG will host Brian McComas\, a local alternative defender\, for a presentation on how to start your own indigent defense practice and assist those needing post-conviction relief.
URL:https://www.uclawsf.edu/event/how-to-start-your-own-indigent-defense-practice/
LOCATION:333-202
CATEGORIES:Students
END:VEVENT
BEGIN:VEVENT
DTSTART;TZID=America/Los_Angeles:20250312T123000
DTEND;TZID=America/Los_Angeles:20250312T133000
DTSTAMP:20260420T000449
CREATED:20250125T010745Z
LAST-MODIFIED:20250125T010745Z
UID:10006106-1741782600-1741786200@www.uclawsf.edu
SUMMARY:UCLAS General Council Meeting
DESCRIPTION:UC Law Associated Students biweekly General Council meeting\, open to all students.
URL:https://www.uclawsf.edu/event/uclas-general-council-meeting-5/
LOCATION:333-202
CATEGORIES:Students
ORGANIZER;CN="UCLAS":MAILTO:pres@uclawsf.edu
END:VEVENT
BEGIN:VEVENT
DTSTART;TZID=America/Los_Angeles:20250310T123000
DTEND;TZID=America/Los_Angeles:20250310T133000
DTSTAMP:20260420T000449
CREATED:20250213T185330Z
LAST-MODIFIED:20250213T185330Z
UID:10006244-1741609800-1741613400@www.uclawsf.edu
SUMMARY:AAJ Luncheon
DESCRIPTION:AAJ Affiliated attorney\, Lori Andrus\, to come and present information about AAJ (American Association for Justice).
URL:https://www.uclawsf.edu/event/aaj-luncheon/
LOCATION:333-202
CATEGORIES:Students
END:VEVENT
BEGIN:VEVENT
DTSTART;TZID=America/Los_Angeles:20250212T123000
DTEND;TZID=America/Los_Angeles:20250212T133000
DTSTAMP:20260420T000449
CREATED:20250128T002149Z
LAST-MODIFIED:20250128T002149Z
UID:10006117-1739363400-1739367000@www.uclawsf.edu
SUMMARY:Boutique & Midsize Firm Week: Plot Twist - Transforming Lives in Traditional Practice
DESCRIPTION:
URL:https://www.uclawsf.edu/event/boutique-midsize-firm-week-plot-twist/
LOCATION:333-202
CATEGORIES:Students
END:VEVENT
BEGIN:VEVENT
DTSTART;TZID=America/Los_Angeles:20250211T123000
DTEND;TZID=America/Los_Angeles:20250211T133000
DTSTAMP:20260420T000449
CREATED:20250128T002003Z
LAST-MODIFIED:20250128T002003Z
UID:10006116-1739277000-1739280600@www.uclawsf.edu
SUMMARY:Boutique & Midsize Firm Week: Chaos to Justice - Navigating Catastrophic Injury Cases
DESCRIPTION:
URL:https://www.uclawsf.edu/event/boutique-midsize-firm-week-chaos-to-justice/
LOCATION:333-202
CATEGORIES:Students
END:VEVENT
BEGIN:VEVENT
DTSTART;TZID=America/Los_Angeles:20250205T123000
DTEND;TZID=America/Los_Angeles:20250205T133000
DTSTAMP:20260420T000449
CREATED:20250205T173501Z
LAST-MODIFIED:20250205T173501Z
UID:10006136-1738758600-1738762200@www.uclawsf.edu
SUMMARY:Al Otro Lado
DESCRIPTION:Learn about immigration\, international human rights\, and the important work done by Al Otro Lado during our chat with Nicole Ramos\, Director of the Border Rights Project.
URL:https://www.uclawsf.edu/event/al-otro-lado/
LOCATION:333-202
CATEGORIES:Students
END:VEVENT
END:VCALENDAR