BEGIN:VCALENDAR
VERSION:2.0
PRODID:-//UC Law San Francisco (Formerly UC Hastings) - ECPv6.3.2//NONSGML v1.0//EN
CALSCALE:GREGORIAN
METHOD:PUBLISH
X-ORIGINAL-URL:https://www.uclawsf.edu
X-WR-CALDESC:Events for UC Law San Francisco (Formerly UC Hastings)
REFRESH-INTERVAL;VALUE=DURATION:PT1H
X-Robots-Tag:noindex
X-PUBLISHED-TTL:PT1H
BEGIN:VTIMEZONE
TZID:America/Los_Angeles
BEGIN:DAYLIGHT
TZOFFSETFROM:-0800
TZOFFSETTO:-0700
TZNAME:PDT
DTSTART:20250309T100000
END:DAYLIGHT
BEGIN:STANDARD
TZOFFSETFROM:-0700
TZOFFSETTO:-0800
TZNAME:PST
DTSTART:20251102T090000
END:STANDARD
END:VTIMEZONE
BEGIN:VEVENT
DTSTART;TZID=America/Los_Angeles:20250212T123000
DTEND;TZID=America/Los_Angeles:20250212T133000
DTSTAMP:20260420T014654
CREATED:20250128T002149Z
LAST-MODIFIED:20250128T002149Z
UID:10006117-1739363400-1739367000@www.uclawsf.edu
SUMMARY:Boutique & Midsize Firm Week: Plot Twist - Transforming Lives in Traditional Practice
DESCRIPTION:
URL:https://www.uclawsf.edu/event/boutique-midsize-firm-week-plot-twist/
LOCATION:333-202
CATEGORIES:Students
END:VEVENT
BEGIN:VEVENT
DTSTART;TZID=America/Los_Angeles:20250211T123000
DTEND;TZID=America/Los_Angeles:20250211T133000
DTSTAMP:20260420T014654
CREATED:20250128T002003Z
LAST-MODIFIED:20250128T002003Z
UID:10006116-1739277000-1739280600@www.uclawsf.edu
SUMMARY:Boutique & Midsize Firm Week: Chaos to Justice - Navigating Catastrophic Injury Cases
DESCRIPTION:
URL:https://www.uclawsf.edu/event/boutique-midsize-firm-week-chaos-to-justice/
LOCATION:333-202
CATEGORIES:Students
END:VEVENT
BEGIN:VEVENT
DTSTART;TZID=America/Los_Angeles:20250205T123000
DTEND;TZID=America/Los_Angeles:20250205T133000
DTSTAMP:20260420T014654
CREATED:20250205T173501Z
LAST-MODIFIED:20250205T173501Z
UID:10006136-1738758600-1738762200@www.uclawsf.edu
SUMMARY:Al Otro Lado
DESCRIPTION:Learn about immigration\, international human rights\, and the important work done by Al Otro Lado during our chat with Nicole Ramos\, Director of the Border Rights Project.
URL:https://www.uclawsf.edu/event/al-otro-lado/
LOCATION:333-202
CATEGORIES:Students
END:VEVENT
END:VCALENDAR