BEGIN:VCALENDAR
VERSION:2.0
PRODID:-//UC Law San Francisco (Formerly UC Hastings) - ECPv6.3.2//NONSGML v1.0//EN
CALSCALE:GREGORIAN
METHOD:PUBLISH
X-WR-CALNAME:UC Law San Francisco (Formerly UC Hastings)
X-ORIGINAL-URL:https://www.uclawsf.edu
X-WR-CALDESC:Events for UC Law San Francisco (Formerly UC Hastings)
REFRESH-INTERVAL;VALUE=DURATION:PT1H
X-Robots-Tag:noindex
X-PUBLISHED-TTL:PT1H
BEGIN:VTIMEZONE
TZID:America/Los_Angeles
BEGIN:DAYLIGHT
TZOFFSETFROM:-0800
TZOFFSETTO:-0700
TZNAME:PDT
DTSTART:20250309T100000
END:DAYLIGHT
BEGIN:STANDARD
TZOFFSETFROM:-0700
TZOFFSETTO:-0800
TZNAME:PST
DTSTART:20251102T090000
END:STANDARD
END:VTIMEZONE
BEGIN:VEVENT
DTSTART;TZID=America/Los_Angeles:20251030T180000
DTEND;TZID=America/Los_Angeles:20251030T200000
DTSTAMP:20260420T013834
CREATED:20251008T225304Z
LAST-MODIFIED:20251008T225304Z
UID:10006430-1761847200-1761854400@www.uclawsf.edu
SUMMARY:Halloween Mixer
DESCRIPTION:A collaboration event between LIPA and the Entertainment Law Society for students to come together and talk about their interests in the entertainment and IP law fields.
URL:https://www.uclawsf.edu/event/halloween-mixer/
LOCATION:333 Quad\, 333 Golden Gate\, San Francisco\, CA\, 94102
CATEGORIES:Students
END:VEVENT
BEGIN:VEVENT
DTSTART;TZID=America/Los_Angeles:20251024T180000
DTEND;TZID=America/Los_Angeles:20251024T210000
DTSTAMP:20260420T013834
CREATED:20251009T205417Z
LAST-MODIFIED:20251009T205417Z
UID:10006452-1761328800-1761339600@www.uclawsf.edu
SUMMARY:Festival of Lights
DESCRIPTION:This event will celebrate the South Asian cultural festival known as Diwali\, or the Festival of Lights. This holiday is celebrated across many nationalities\, religions\, and cultures within South Asia. We will have food at this event\, music\, as well as opportunities for socializing and networking with attorneys and professors.
URL:https://www.uclawsf.edu/event/festival-of-lights/
LOCATION:333 Quad\, 333 Golden Gate\, San Francisco\, CA\, 94102
CATEGORIES:Students
END:VEVENT
BEGIN:VEVENT
DTSTART;TZID=America/Los_Angeles:20251022T123000
DTEND;TZID=America/Los_Angeles:20251022T133000
DTSTAMP:20260420T013834
CREATED:20250923T202912Z
LAST-MODIFIED:20250923T202912Z
UID:10006378-1761136200-1761139800@www.uclawsf.edu
SUMMARY:Spring 2026 Clinics & Externships Open House
DESCRIPTION:Come learn from faculty about the clinics and externships offered next semester!\n\nWednesday\, October 22\, 2025\n12:30pm – 1:30pm\n\nThe Quad\n\nFood will be provided!
URL:https://www.uclawsf.edu/event/spring-2026-clinics-externships-open-house/
LOCATION:333 Quad\, 333 Golden Gate\, San Francisco\, CA\, 94102
CATEGORIES:Students
ORGANIZER;CN="Center for Negotiation and Dispute Resolution (CNDR)":MAILTO:cndr@uclawsf.edu
END:VEVENT
BEGIN:VEVENT
DTSTART;TZID=America/Los_Angeles:20250617T173000
DTEND;TZID=America/Los_Angeles:20250617T203000
DTSTAMP:20260420T013834
CREATED:20250505T180819Z
LAST-MODIFIED:20250505T180819Z
UID:10006327-1750181400-1750192200@www.uclawsf.edu
SUMMARY:Meet the Employers
DESCRIPTION:Annual UCLJ “Meet The Employers” networking event with law firms and other employers.
URL:https://www.uclawsf.edu/event/meet-the-employers-2/
LOCATION:333 Quad\, 333 Golden Gate\, San Francisco\, CA\, 94102
CATEGORIES:Students
END:VEVENT
BEGIN:VEVENT
DTSTART;TZID=America/Los_Angeles:20250403T153000
DTEND;TZID=America/Los_Angeles:20250403T190000
DTSTAMP:20260420T013834
CREATED:20250207T003132Z
LAST-MODIFIED:20250207T003132Z
UID:10006222-1743694200-1743706800@www.uclawsf.edu
SUMMARY:Sharks on the Quad
DESCRIPTION:Please join UCLAS for Sharks on the Quad!
URL:https://www.uclawsf.edu/event/sharks-on-the-quad-5/2025-04-03/
LOCATION:333 Quad\, 333 Golden Gate\, San Francisco\, CA\, 94102
CATEGORIES:Students,UC LAW SF Community
ORGANIZER;CN="UCLAS":MAILTO:pres@uclawsf.edu
END:VEVENT
BEGIN:VEVENT
DTSTART;TZID=America/Los_Angeles:20250325T180000
DTEND;TZID=America/Los_Angeles:20250325T200000
DTSTAMP:20260420T013834
CREATED:20250304T184101Z
LAST-MODIFIED:20250304T184101Z
UID:10006271-1742925600-1742932800@www.uclawsf.edu
SUMMARY:Attorney Student Networking Event
DESCRIPTION:Black tie networking event with open bar for attorneys and students.
URL:https://www.uclawsf.edu/event/attorney-student-networking-event-2/
LOCATION:333 Quad\, 333 Golden Gate\, San Francisco\, CA\, 94102
CATEGORIES:Students
END:VEVENT
BEGIN:VEVENT
DTSTART;TZID=America/Los_Angeles:20250325T180000
DTEND;TZID=America/Los_Angeles:20250325T200000
DTSTAMP:20260420T013834
CREATED:20250214T013647Z
LAST-MODIFIED:20250214T013853Z
UID:10006245-1742925600-1742932800@www.uclawsf.edu
SUMMARY:Attorney Student Networking Event
DESCRIPTION:Black tie networking event with open bar for attorneys and students on the skydeck.
URL:https://www.uclawsf.edu/event/attorney-student-networking-event/
LOCATION:333 Quad\, 333 Golden Gate\, San Francisco\, CA\, 94102
CATEGORIES:Students
END:VEVENT
BEGIN:VEVENT
DTSTART;TZID=America/Los_Angeles:20250320T153000
DTEND;TZID=America/Los_Angeles:20250320T190000
DTSTAMP:20260420T013834
CREATED:20250207T003132Z
LAST-MODIFIED:20250207T003132Z
UID:10006221-1742484600-1742497200@www.uclawsf.edu
SUMMARY:Sharks on the Quad
DESCRIPTION:Please join UCLAS for Sharks on the Quad!
URL:https://www.uclawsf.edu/event/sharks-on-the-quad-5/2025-03-20/
LOCATION:333 Quad\, 333 Golden Gate\, San Francisco\, CA\, 94102
CATEGORIES:Students,UC LAW SF Community
ORGANIZER;CN="UCLAS":MAILTO:pres@uclawsf.edu
END:VEVENT
BEGIN:VEVENT
DTSTART;TZID=America/Los_Angeles:20250227T160000
DTEND;TZID=America/Los_Angeles:20250227T180000
DTSTAMP:20260420T013834
CREATED:20250207T003818Z
LAST-MODIFIED:20250207T003818Z
UID:10006228-1740672000-1740679200@www.uclawsf.edu
SUMMARY:UC Law Journal 1L Recruitment Event
DESCRIPTION:Drinks and food available for 1Ls and to interact with current UC Law Journal members and to have their questions answered.
URL:https://www.uclawsf.edu/event/uc-law-journal-1l-recruitment-event/
LOCATION:333 Quad\, 333 Golden Gate\, San Francisco\, CA\, 94102
CATEGORIES:Students
END:VEVENT
BEGIN:VEVENT
DTSTART;TZID=America/Los_Angeles:20250226T170000
DTEND;TZID=America/Los_Angeles:20250226T190000
DTSTAMP:20260420T013834
CREATED:20250213T184233Z
LAST-MODIFIED:20250213T184233Z
UID:10006237-1740589200-1740596400@www.uclawsf.edu
SUMMARY:UC Law Business Journal Alumni Reunion
DESCRIPTION:UC Law Business Journal Alumni Reunion
URL:https://www.uclawsf.edu/event/uc-law-business-journal-alumni-reunion-2/
LOCATION:333 Quad\, 333 Golden Gate\, San Francisco\, CA\, 94102
CATEGORIES:Students
END:VEVENT
BEGIN:VEVENT
DTSTART;TZID=America/Los_Angeles:20250220T153000
DTEND;TZID=America/Los_Angeles:20250220T190000
DTSTAMP:20260420T013834
CREATED:20250207T003132Z
LAST-MODIFIED:20250207T003132Z
UID:10006220-1740065400-1740078000@www.uclawsf.edu
SUMMARY:Sharks on the Quad
DESCRIPTION:Please join UCLAS for Sharks on the Quad!
URL:https://www.uclawsf.edu/event/sharks-on-the-quad-5/2025-02-20/
LOCATION:333 Quad\, 333 Golden Gate\, San Francisco\, CA\, 94102
CATEGORIES:Students,UC LAW SF Community
ORGANIZER;CN="UCLAS":MAILTO:pres@uclawsf.edu
END:VEVENT
BEGIN:VEVENT
DTSTART;TZID=America/Los_Angeles:20250213T170000
DTEND;TZID=America/Los_Angeles:20250213T190000
DTSTAMP:20260420T013834
CREATED:20250128T002355Z
LAST-MODIFIED:20250128T002355Z
UID:10006120-1739466000-1739473200@www.uclawsf.edu
SUMMARY:Boutique & Midsize Firm Week: Reception
DESCRIPTION:
URL:https://www.uclawsf.edu/event/reception/
LOCATION:333 Quad\, 333 Golden Gate\, San Francisco\, CA\, 94102
CATEGORIES:Students
END:VEVENT
END:VCALENDAR