BEGIN:VCALENDAR
VERSION:2.0
PRODID:-//UC Law San Francisco (Formerly UC Hastings) - ECPv6.3.2//NONSGML v1.0//EN
CALSCALE:GREGORIAN
METHOD:PUBLISH
X-WR-CALNAME:UC Law San Francisco (Formerly UC Hastings)
X-ORIGINAL-URL:https://www.uclawsf.edu
X-WR-CALDESC:Events for UC Law San Francisco (Formerly UC Hastings)
REFRESH-INTERVAL;VALUE=DURATION:PT1H
X-Robots-Tag:noindex
X-PUBLISHED-TTL:PT1H
BEGIN:VTIMEZONE
TZID:America/Los_Angeles
BEGIN:DAYLIGHT
TZOFFSETFROM:-0800
TZOFFSETTO:-0700
TZNAME:PDT
DTSTART:20250309T100000
END:DAYLIGHT
BEGIN:STANDARD
TZOFFSETFROM:-0700
TZOFFSETTO:-0800
TZNAME:PST
DTSTART:20251102T090000
END:STANDARD
END:VTIMEZONE
BEGIN:VEVENT
DTSTART;TZID=America/Los_Angeles:20250129T123000
DTEND;TZID=America/Los_Angeles:20250129T133000
DTSTAMP:20260421T134137
CREATED:20250205T173346Z
LAST-MODIFIED:20250205T173346Z
UID:10006135-1738153800-1738157400@www.uclawsf.edu
SUMMARY:HLPS Career Panel
DESCRIPTION:Lawyers and JD-advantage professionals will join the Health Law and Policy Society to share about health law career pathways.
URL:https://www.uclawsf.edu/event/hlps-career-panel/
LOCATION:Baxter Courtoom – 198 McAllister\, Room 108
CATEGORIES:Students
END:VEVENT
END:VCALENDAR